BEGIN:VCALENDAR
VERSION:2.0
PRODID:-//Fundación MAS - ECPv6.15.17.1//NONSGML v1.0//EN
CALSCALE:GREGORIAN
METHOD:PUBLISH
X-ORIGINAL-URL:https://fundacionmas.es
X-WR-CALDESC:Eventos para Fundación MAS
REFRESH-INTERVAL;VALUE=DURATION:PT1H
X-Robots-Tag:noindex
X-PUBLISHED-TTL:PT1H
BEGIN:VTIMEZONE
TZID:Europe/Madrid
BEGIN:DAYLIGHT
TZOFFSETFROM:+0100
TZOFFSETTO:+0200
TZNAME:CEST
DTSTART:20250330T010000
END:DAYLIGHT
BEGIN:STANDARD
TZOFFSETFROM:+0200
TZOFFSETTO:+0100
TZNAME:CET
DTSTART:20251026T010000
END:STANDARD
BEGIN:DAYLIGHT
TZOFFSETFROM:+0100
TZOFFSETTO:+0200
TZNAME:CEST
DTSTART:20260329T010000
END:DAYLIGHT
BEGIN:STANDARD
TZOFFSETFROM:+0200
TZOFFSETTO:+0100
TZNAME:CET
DTSTART:20261025T010000
END:STANDARD
BEGIN:DAYLIGHT
TZOFFSETFROM:+0100
TZOFFSETTO:+0200
TZNAME:CEST
DTSTART:20270328T010000
END:DAYLIGHT
BEGIN:STANDARD
TZOFFSETFROM:+0200
TZOFFSETTO:+0100
TZNAME:CET
DTSTART:20271031T010000
END:STANDARD
END:VTIMEZONE
BEGIN:VEVENT
DTSTART;TZID=Europe/Madrid:20260531T110000
DTEND;TZID=Europe/Madrid:20260730T180000
DTSTAMP:20260421T174137
CREATED:20260407T114629Z
LAST-MODIFIED:20260417T124740Z
UID:10000772-1780225200-1785434400@fundacionmas.es
SUMMARY:Donación online XIV Maratón Solidaria
DESCRIPTION:Encuentro entre empleados y familiares de Grupo MAS. \nRecaudación destinada a Victoria Reaño\, hija de nuestra compañera de Grupo MAS\, Sonia Pérez. \nDomingo\, 31 de mayo. 11: 00 h.  \nColegio Claret Sevilla. \nEntrada c/ Monzón.
URL:https://fundacionmas.es/evento/donacion-xiv-maraton-solidaria-todos-con-victoria/
ATTACH;FMTTYPE=image/png:https://fundacionmas.es/wp-content/uploads/2026/04/BANNER-WEB-MARATON-SOLIDARIA-2026-scaled.png
END:VEVENT
END:VCALENDAR