BEGIN:VCALENDAR
VERSION:2.0
PRODID:-//Fundación MAS - ECPv6.15.17.1//NONSGML v1.0//EN
CALSCALE:GREGORIAN
METHOD:PUBLISH
X-ORIGINAL-URL:https://fundacionmas.es
X-WR-CALDESC:Eventos para Fundación MAS
REFRESH-INTERVAL;VALUE=DURATION:PT1H
X-Robots-Tag:noindex
X-PUBLISHED-TTL:PT1H
BEGIN:VTIMEZONE
TZID:Europe/Madrid
BEGIN:DAYLIGHT
TZOFFSETFROM:+0100
TZOFFSETTO:+0200
TZNAME:CEST
DTSTART:20250330T010000
END:DAYLIGHT
BEGIN:STANDARD
TZOFFSETFROM:+0200
TZOFFSETTO:+0100
TZNAME:CET
DTSTART:20251026T010000
END:STANDARD
BEGIN:DAYLIGHT
TZOFFSETFROM:+0100
TZOFFSETTO:+0200
TZNAME:CEST
DTSTART:20260329T010000
END:DAYLIGHT
BEGIN:STANDARD
TZOFFSETFROM:+0200
TZOFFSETTO:+0100
TZNAME:CET
DTSTART:20261025T010000
END:STANDARD
BEGIN:DAYLIGHT
TZOFFSETFROM:+0100
TZOFFSETTO:+0200
TZNAME:CEST
DTSTART:20270328T010000
END:DAYLIGHT
BEGIN:STANDARD
TZOFFSETFROM:+0200
TZOFFSETTO:+0100
TZNAME:CET
DTSTART:20271031T010000
END:STANDARD
END:VTIMEZONE
BEGIN:VEVENT
DTSTART;TZID=Europe/Madrid:20260427T090000
DTEND;TZID=Europe/Madrid:20260427T120000
DTSTAMP:20260421T174520
CREATED:20260311T170921Z
LAST-MODIFIED:20260311T170921Z
UID:10000699-1777280400-1777291200@fundacionmas.es
SUMMARY:Cocina Tradicional I
DESCRIPTION:Organiza Distrito Casco Antiguo
URL:https://fundacionmas.es/evento/cocina-tradicional-i-20/
END:VEVENT
BEGIN:VEVENT
DTSTART;TZID=Europe/Madrid:20260427T170000
DTEND;TZID=Europe/Madrid:20260427T190000
DTSTAMP:20260421T174520
CREATED:20260323T162546Z
LAST-MODIFIED:20260323T162546Z
UID:10000760-1777309200-1777316400@fundacionmas.es
SUMMARY:Taller de la Memoria
DESCRIPTION:Organiza: Distrito de Casco Antiguo
URL:https://fundacionmas.es/evento/taller-de-la-memoria-33/
END:VEVENT
BEGIN:VEVENT
DTSTART;TZID=Europe/Madrid:20260428T090000
DTEND;TZID=Europe/Madrid:20260428T120000
DTSTAMP:20260421T174520
CREATED:20260311T171154Z
LAST-MODIFIED:20260311T171154Z
UID:10000703-1777366800-1777377600@fundacionmas.es
SUMMARY:Cocina Tradicional II
DESCRIPTION:Organiza Distrito Casco Antiguo
URL:https://fundacionmas.es/evento/cocina-tradicional-ii-14/
END:VEVENT
BEGIN:VEVENT
DTSTART;TZID=Europe/Madrid:20260428T173000
DTEND;TZID=Europe/Madrid:20260428T183000
DTSTAMP:20260421T174520
CREATED:20260203T165847Z
LAST-MODIFIED:20260203T165847Z
UID:10000670-1777397400-1777401000@fundacionmas.es
SUMMARY:Becas de Inglés
DESCRIPTION:Organizado: Fundación MAS
URL:https://fundacionmas.es/evento/becas-de-ingles-80/
END:VEVENT
BEGIN:VEVENT
DTSTART;TZID=Europe/Madrid:20260428T184500
DTEND;TZID=Europe/Madrid:20260428T201500
DTSTAMP:20260421T174520
CREATED:20260323T155944Z
LAST-MODIFIED:20260323T160000Z
UID:10000748-1777401900-1777407300@fundacionmas.es
SUMMARY:Iniciación al Francés
DESCRIPTION:Organiza: Distrito Casco Antiguo
URL:https://fundacionmas.es/evento/iniciacion-al-frances-40/
END:VEVENT
BEGIN:VEVENT
DTSTART;TZID=Europe/Madrid:20260429T170000
DTEND;TZID=Europe/Madrid:20260429T190000
DTSTAMP:20260421T174520
CREATED:20260323T163557Z
LAST-MODIFIED:20260323T163846Z
UID:10000761-1777482000-1777489200@fundacionmas.es
SUMMARY:Taller de la Memoria
DESCRIPTION:Organiza: Distrito de Casco Antiguo
URL:https://fundacionmas.es/evento/taller-de-la-memoria-34/
END:VEVENT
BEGIN:VEVENT
DTSTART;TZID=Europe/Madrid:20260430T090000
DTEND;TZID=Europe/Madrid:20260430T120000
DTSTAMP:20260421T174520
CREATED:20260323T151221Z
LAST-MODIFIED:20260323T151221Z
UID:10000722-1777539600-1777550400@fundacionmas.es
SUMMARY:Cocina Tradicional
DESCRIPTION:Organiza: Distrito de Casco Antiguo
URL:https://fundacionmas.es/evento/cocina-tradicional-12/
END:VEVENT
BEGIN:VEVENT
DTSTART;TZID=Europe/Madrid:20260430T173000
DTEND;TZID=Europe/Madrid:20260430T183000
DTSTAMP:20260421T174520
CREATED:20260203T165914Z
LAST-MODIFIED:20260203T165914Z
UID:10000671-1777570200-1777573800@fundacionmas.es
SUMMARY:Becas de Inglés
DESCRIPTION:Organizado: Fundación MAS
URL:https://fundacionmas.es/evento/becas-de-ingles-81/
END:VEVENT
BEGIN:VEVENT
DTSTART;TZID=Europe/Madrid:20260430T184500
DTEND;TZID=Europe/Madrid:20260430T201500
DTSTAMP:20260421T174520
CREATED:20260323T160027Z
LAST-MODIFIED:20260323T160027Z
UID:10000749-1777574700-1777580100@fundacionmas.es
SUMMARY:Iniciación al Francés
DESCRIPTION:Organiza: Distrito Casco Antiguo
URL:https://fundacionmas.es/evento/iniciacion-al-frances-41/
END:VEVENT
BEGIN:VEVENT
DTSTART;TZID=Europe/Madrid:20260430T190000
DTEND;TZID=Europe/Madrid:20260430T210000
DTSTAMP:20260421T174520
CREATED:20260413T143550Z
LAST-MODIFIED:20260413T143550Z
UID:10000776-1777575600-1777582800@fundacionmas.es
SUMMARY:La Musa Reusa
DESCRIPTION:Organiza: Concha Ortiz
URL:https://fundacionmas.es/evento/la-musa-reusa/
END:VEVENT
END:VCALENDAR