BEGIN:VCALENDAR
VERSION:2.0
PRODID:-//Fundación MAS - ECPv6.15.17.1//NONSGML v1.0//EN
CALSCALE:GREGORIAN
METHOD:PUBLISH
X-WR-CALNAME:Fundación MAS
X-ORIGINAL-URL:https://fundacionmas.es
X-WR-CALDESC:Eventos para Fundación MAS
REFRESH-INTERVAL;VALUE=DURATION:PT1H
X-Robots-Tag:noindex
X-PUBLISHED-TTL:PT1H
BEGIN:VTIMEZONE
TZID:Europe/Madrid
BEGIN:DAYLIGHT
TZOFFSETFROM:+0100
TZOFFSETTO:+0200
TZNAME:CEST
DTSTART:20250330T010000
END:DAYLIGHT
BEGIN:STANDARD
TZOFFSETFROM:+0200
TZOFFSETTO:+0100
TZNAME:CET
DTSTART:20251026T010000
END:STANDARD
BEGIN:DAYLIGHT
TZOFFSETFROM:+0100
TZOFFSETTO:+0200
TZNAME:CEST
DTSTART:20260329T010000
END:DAYLIGHT
BEGIN:STANDARD
TZOFFSETFROM:+0200
TZOFFSETTO:+0100
TZNAME:CET
DTSTART:20261025T010000
END:STANDARD
BEGIN:DAYLIGHT
TZOFFSETFROM:+0100
TZOFFSETTO:+0200
TZNAME:CEST
DTSTART:20270328T010000
END:DAYLIGHT
BEGIN:STANDARD
TZOFFSETFROM:+0200
TZOFFSETTO:+0100
TZNAME:CET
DTSTART:20271031T010000
END:STANDARD
END:VTIMEZONE
BEGIN:VEVENT
DTSTART;TZID=Europe/Madrid:20260413T090000
DTEND;TZID=Europe/Madrid:20260413T120000
DTSTAMP:20260421T143342
CREATED:20260311T170839Z
LAST-MODIFIED:20260311T170839Z
UID:10000697-1776070800-1776081600@fundacionmas.es
SUMMARY:Cocina Tradicional I
DESCRIPTION:Organiza Distrito Casco Antiguo
URL:https://fundacionmas.es/evento/cocina-tradicional-i-18/
END:VEVENT
BEGIN:VEVENT
DTSTART;TZID=Europe/Madrid:20260413T170000
DTEND;TZID=Europe/Madrid:20260413T190000
DTSTAMP:20260421T143342
CREATED:20260319T175846Z
LAST-MODIFIED:20260319T175846Z
UID:10000708-1776099600-1776106800@fundacionmas.es
SUMMARY:Taller de la memoria
DESCRIPTION:Organiza: Distrito de Casco Antiguo
URL:https://fundacionmas.es/evento/taller-de-la-memoria-31/
END:VEVENT
BEGIN:VEVENT
DTSTART;TZID=Europe/Madrid:20260414T090000
DTEND;TZID=Europe/Madrid:20260414T120000
DTSTAMP:20260421T143342
CREATED:20260311T171026Z
LAST-MODIFIED:20260311T171026Z
UID:10000701-1776157200-1776168000@fundacionmas.es
SUMMARY:Cocina Tradicional II
DESCRIPTION:Organiza Distrito Casco Antiguo
URL:https://fundacionmas.es/evento/cocina-tradicional-ii-12/
END:VEVENT
BEGIN:VEVENT
DTSTART;TZID=Europe/Madrid:20260414T090000
DTEND;TZID=Europe/Madrid:20260414T140000
DTSTAMP:20260421T143342
CREATED:20260413T143146Z
LAST-MODIFIED:20260413T143146Z
UID:10000774-1776157200-1776175200@fundacionmas.es
SUMMARY:Curso Formación Manipulador Alimentos
DESCRIPTION:Organizado: Comedor San Vicente Paúl
URL:https://fundacionmas.es/evento/curso-formacion-manipulador-alimentos/
END:VEVENT
BEGIN:VEVENT
DTSTART;TZID=Europe/Madrid:20260414T173000
DTEND;TZID=Europe/Madrid:20260414T183000
DTSTAMP:20260421T143342
CREATED:20260203T165637Z
LAST-MODIFIED:20260203T165637Z
UID:10000668-1776187800-1776191400@fundacionmas.es
SUMMARY:Becas de Inglés
DESCRIPTION:Organizado: Fundación MAS
URL:https://fundacionmas.es/evento/becas-de-ingles-78/
END:VEVENT
BEGIN:VEVENT
DTSTART;TZID=Europe/Madrid:20260414T184500
DTEND;TZID=Europe/Madrid:20260414T201500
DTSTAMP:20260421T143342
CREATED:20260323T155844Z
LAST-MODIFIED:20260323T155844Z
UID:10000746-1776192300-1776197700@fundacionmas.es
SUMMARY:Iniciación al Francés
DESCRIPTION:Organiza: Distrito Casco Antiguo
URL:https://fundacionmas.es/evento/iniciacion-al-frances-38/
END:VEVENT
BEGIN:VEVENT
DTSTART;TZID=Europe/Madrid:20260414T190000
DTEND;TZID=Europe/Madrid:20260414T200000
DTSTAMP:20260421T143342
CREATED:20260413T143425Z
LAST-MODIFIED:20260413T143425Z
UID:10000775-1776193200-1776196800@fundacionmas.es
SUMMARY:Cineforum
DESCRIPTION:Organizado: Asociación Artepuntas
URL:https://fundacionmas.es/evento/cineforum-4/
END:VEVENT
BEGIN:VEVENT
DTSTART;TZID=Europe/Madrid:20260415T100000
DTEND;TZID=Europe/Madrid:20260415T133000
DTSTAMP:20260421T143342
CREATED:20260323T154840Z
LAST-MODIFIED:20260323T154840Z
UID:10000742-1776247200-1776259800@fundacionmas.es
SUMMARY:Jornada técnica y reglamento europeo diseño ecológico
DESCRIPTION:Organiza: Colegio Profesional Licenciados y Graduados en Ciencias Ambientales Andalucía ( COAMBA)
URL:https://fundacionmas.es/evento/jornada-tecnica-y-reglamento-europeo-diseno-ecologico/
END:VEVENT
BEGIN:VEVENT
DTSTART;TZID=Europe/Madrid:20260415T170000
DTEND;TZID=Europe/Madrid:20260415T190000
DTSTAMP:20260421T143342
CREATED:20260319T175909Z
LAST-MODIFIED:20260319T175909Z
UID:10000709-1776272400-1776279600@fundacionmas.es
SUMMARY:Taller de la memoria
DESCRIPTION:Organiza: Distrito de Casco Antiguo
URL:https://fundacionmas.es/evento/taller-de-la-memoria-32/
END:VEVENT
BEGIN:VEVENT
DTSTART;TZID=Europe/Madrid:20260416T090000
DTEND;TZID=Europe/Madrid:20260416T120000
DTSTAMP:20260421T143342
CREATED:20260323T151125Z
LAST-MODIFIED:20260323T151125Z
UID:10000721-1776330000-1776340800@fundacionmas.es
SUMMARY:Cocina Tradicional
DESCRIPTION:Organiza: Distrito de Casco Antiguo
URL:https://fundacionmas.es/evento/cocina-tradicional-11/
END:VEVENT
BEGIN:VEVENT
DTSTART;TZID=Europe/Madrid:20260416T090000
DTEND;TZID=Europe/Madrid:20260416T180000
DTSTAMP:20260421T143342
CREATED:20260323T155032Z
LAST-MODIFIED:20260323T155032Z
UID:10000743-1776330000-1776362400@fundacionmas.es
SUMMARY:Curso sobre Cuidados Paliativos Pediátricos
DESCRIPTION:Organiza: Consejería Sanidad\, Presidencia y Emergencia Junta de Andalucía
URL:https://fundacionmas.es/evento/curso-sobre-cuidados-paliativos-pediatricos/
END:VEVENT
BEGIN:VEVENT
DTSTART;TZID=Europe/Madrid:20260416T173000
DTEND;TZID=Europe/Madrid:20260416T183000
DTSTAMP:20260421T143342
CREATED:20260203T165730Z
LAST-MODIFIED:20260203T165730Z
UID:10000669-1776360600-1776364200@fundacionmas.es
SUMMARY:Becas de Inglés
DESCRIPTION:Organizado: Fundación MAS
URL:https://fundacionmas.es/evento/becas-de-ingles-79/
END:VEVENT
BEGIN:VEVENT
DTSTART;TZID=Europe/Madrid:20260416T184500
DTEND;TZID=Europe/Madrid:20260416T201500
DTSTAMP:20260421T143342
CREATED:20260323T155910Z
LAST-MODIFIED:20260323T155910Z
UID:10000747-1776365100-1776370500@fundacionmas.es
SUMMARY:Iniciación al Francés
DESCRIPTION:Organiza: Distrito Casco Antiguo
URL:https://fundacionmas.es/evento/iniciacion-al-frances-39/
END:VEVENT
BEGIN:VEVENT
DTSTART;TZID=Europe/Madrid:20260416T193000
DTEND;TZID=Europe/Madrid:20260416T210000
DTSTAMP:20260421T143342
CREATED:20260413T143031Z
LAST-MODIFIED:20260413T143031Z
UID:10000773-1776367800-1776373200@fundacionmas.es
SUMMARY:La Poesía se Viste de Feria
DESCRIPTION:Organizado: José Luis González Cáceres
URL:https://fundacionmas.es/evento/la-poesia-se-viste-de-feria/
END:VEVENT
BEGIN:VEVENT
DTSTART;TZID=Europe/Madrid:20260417T090000
DTEND;TZID=Europe/Madrid:20260417T120000
DTSTAMP:20260421T143342
CREATED:20260323T150120Z
LAST-MODIFIED:20260323T150120Z
UID:10000711-1776416400-1776427200@fundacionmas.es
SUMMARY:Cocina Tradicional III
DESCRIPTION:Organiza: Distrito de Casco Antiguo
URL:https://fundacionmas.es/evento/cocina-tradicional-iii-19/
END:VEVENT
END:VCALENDAR