BEGIN:VCALENDAR
VERSION:2.0
PRODID:-//Fundación MAS - ECPv6.15.17.1//NONSGML v1.0//EN
CALSCALE:GREGORIAN
METHOD:PUBLISH
X-ORIGINAL-URL:https://fundacionmas.es
X-WR-CALDESC:Eventos para Fundación MAS
REFRESH-INTERVAL;VALUE=DURATION:PT1H
X-Robots-Tag:noindex
X-PUBLISHED-TTL:PT1H
BEGIN:VTIMEZONE
TZID:Europe/Madrid
BEGIN:DAYLIGHT
TZOFFSETFROM:+0100
TZOFFSETTO:+0200
TZNAME:CEST
DTSTART:20250330T010000
END:DAYLIGHT
BEGIN:STANDARD
TZOFFSETFROM:+0200
TZOFFSETTO:+0100
TZNAME:CET
DTSTART:20251026T010000
END:STANDARD
BEGIN:DAYLIGHT
TZOFFSETFROM:+0100
TZOFFSETTO:+0200
TZNAME:CEST
DTSTART:20260329T010000
END:DAYLIGHT
BEGIN:STANDARD
TZOFFSETFROM:+0200
TZOFFSETTO:+0100
TZNAME:CET
DTSTART:20261025T010000
END:STANDARD
BEGIN:DAYLIGHT
TZOFFSETFROM:+0100
TZOFFSETTO:+0200
TZNAME:CEST
DTSTART:20270328T010000
END:DAYLIGHT
BEGIN:STANDARD
TZOFFSETFROM:+0200
TZOFFSETTO:+0100
TZNAME:CET
DTSTART:20271031T010000
END:STANDARD
END:VTIMEZONE
BEGIN:VEVENT
DTSTART;TZID=Europe/Madrid:20260223T090000
DTEND;TZID=Europe/Madrid:20260223T120000
DTSTAMP:20260421T172923
CREATED:20251205T172227Z
LAST-MODIFIED:20251205T172317Z
UID:10000525-1771837200-1771848000@fundacionmas.es
SUMMARY:Cocina Tradicional I
DESCRIPTION:Organizado: Distrito Casco Antiguo
URL:https://fundacionmas.es/evento/cocina-tradicional-i-13/
END:VEVENT
BEGIN:VEVENT
DTSTART;TZID=Europe/Madrid:20260223T090000
DTEND;TZID=Europe/Madrid:20260223T190000
DTSTAMP:20260421T172923
CREATED:20260216T130749Z
LAST-MODIFIED:20260216T130749Z
UID:10000678-1771837200-1771873200@fundacionmas.es
SUMMARY:Reunión Equipo MAS Infancia Andalucía
DESCRIPTION:Organiza: Cruz Roja Sevilla
URL:https://fundacionmas.es/evento/reunion-equipo-mas-infancia-andalucia/
END:VEVENT
BEGIN:VEVENT
DTSTART;TZID=Europe/Madrid:20260223T170000
DTEND;TZID=Europe/Madrid:20260223T190000
DTSTAMP:20260421T172923
CREATED:20251209T144529Z
LAST-MODIFIED:20251209T144529Z
UID:10000569-1771866000-1771873200@fundacionmas.es
SUMMARY:Taller de la memoria
DESCRIPTION:Organiza: Distrito Casco Antiguo
URL:https://fundacionmas.es/evento/taller-de-la-memoria-19/
END:VEVENT
BEGIN:VEVENT
DTSTART;TZID=Europe/Madrid:20260223T170000
DTEND;TZID=Europe/Madrid:20260223T190000
DTSTAMP:20260421T172923
CREATED:20260202T134635Z
LAST-MODIFIED:20260202T134635Z
UID:10000638-1771866000-1771873200@fundacionmas.es
SUMMARY:Taller Cocina para niños
DESCRIPTION:Organiza: Distrito del Casco Antiguo.
URL:https://fundacionmas.es/evento/taller-cocina-para-ninos-9/
END:VEVENT
BEGIN:VEVENT
DTSTART;TZID=Europe/Madrid:20260224T090000
DTEND;TZID=Europe/Madrid:20260224T120000
DTSTAMP:20260421T172923
CREATED:20251209T150318Z
LAST-MODIFIED:20251209T150318Z
UID:10000586-1771923600-1771934400@fundacionmas.es
SUMMARY:Cocina Internacional II
DESCRIPTION:Organiza: Distrito de Casco Antiguo
URL:https://fundacionmas.es/evento/cocina-internacional-ii-5/
END:VEVENT
BEGIN:VEVENT
DTSTART;TZID=Europe/Madrid:20260224T090000
DTEND;TZID=Europe/Madrid:20260224T170000
DTSTAMP:20260421T172923
CREATED:20260216T130827Z
LAST-MODIFIED:20260216T130827Z
UID:10000679-1771923600-1771952400@fundacionmas.es
SUMMARY:Reunión Equipo MAS Infancia Andalucía
DESCRIPTION:Organiza: Cruz Roja Sevilla
URL:https://fundacionmas.es/evento/reunion-equipo-mas-infancia-andalucia-2/
END:VEVENT
BEGIN:VEVENT
DTSTART;TZID=Europe/Madrid:20260224T100000
DTEND;TZID=Europe/Madrid:20260224T120000
DTSTAMP:20260421T172923
CREATED:20260203T174513Z
LAST-MODIFIED:20260203T174513Z
UID:10000673-1771927200-1771934400@fundacionmas.es
SUMMARY:Infoday Proyecto Erasmus Talk2Me
DESCRIPTION:Organiza: Espacio Human Smart Lab \n\n\n\n\n\n\n\n\n\n\n\n\n\n\n\n\n\n\n\n\n\n\n\n\n\n\n\n\n\nEspacio Human Smart Lab
URL:https://fundacionmas.es/evento/infoday-proyecto-erasmus-talk2me/
END:VEVENT
BEGIN:VEVENT
DTSTART;TZID=Europe/Madrid:20260224T173000
DTEND;TZID=Europe/Madrid:20260224T183000
DTSTAMP:20260421T172923
CREATED:20260203T162501Z
LAST-MODIFIED:20260203T162501Z
UID:10000653-1771954200-1771957800@fundacionmas.es
SUMMARY:Becas de Inglés
DESCRIPTION:Organizado: Fundación MAS
URL:https://fundacionmas.es/evento/becas-de-ingles-65/
END:VEVENT
BEGIN:VEVENT
DTSTART;TZID=Europe/Madrid:20260224T184500
DTEND;TZID=Europe/Madrid:20260224T201500
DTSTAMP:20260421T172923
CREATED:20251209T140313Z
LAST-MODIFIED:20251209T140313Z
UID:10000552-1771958700-1771964100@fundacionmas.es
SUMMARY:Iniciación al Francés
DESCRIPTION:Organiza: Distrito de Casco Antiguo
URL:https://fundacionmas.es/evento/iniciacion-al-frances-27/
END:VEVENT
BEGIN:VEVENT
DTSTART;TZID=Europe/Madrid:20260225T170000
DTEND;TZID=Europe/Madrid:20260225T190000
DTSTAMP:20260421T172923
CREATED:20251209T144604Z
LAST-MODIFIED:20251209T144604Z
UID:10000570-1772038800-1772046000@fundacionmas.es
SUMMARY:Taller de la memoria
DESCRIPTION:Organiza: Distrito Casco Antiguo
URL:https://fundacionmas.es/evento/taller-de-la-memoria-20/
END:VEVENT
BEGIN:VEVENT
DTSTART;TZID=Europe/Madrid:20260225T180000
DTEND;TZID=Europe/Madrid:20260225T200000
DTSTAMP:20260421T172923
CREATED:20260202T135602Z
LAST-MODIFIED:20260202T135602Z
UID:10000642-1772042400-1772049600@fundacionmas.es
SUMMARY:Ciclo Conferencias " Cuaresma en Sevilla "
DESCRIPTION:Organiza: Ateneo de Triana
URL:https://fundacionmas.es/evento/ciclo-conferencias-cuaresma-en-sevilla-2/
END:VEVENT
BEGIN:VEVENT
DTSTART;TZID=Europe/Madrid:20260226T090000
DTEND;TZID=Europe/Madrid:20260226T120000
DTSTAMP:20260421T172923
CREATED:20260202T124918Z
LAST-MODIFIED:20260202T164813Z
UID:10000599-1772096400-1772107200@fundacionmas.es
SUMMARY:Cocina Internacional
DESCRIPTION:Organiza: Distrito de Casco Antiguo
URL:https://fundacionmas.es/evento/cocina-tradicional-7/
END:VEVENT
BEGIN:VEVENT
DTSTART;TZID=Europe/Madrid:20260226T184500
DTEND;TZID=Europe/Madrid:20260226T201500
DTSTAMP:20260421T172923
CREATED:20251209T140341Z
LAST-MODIFIED:20251209T140341Z
UID:10000553-1772131500-1772136900@fundacionmas.es
SUMMARY:Iniciación al Francés
DESCRIPTION:Organiza: Distrito de Casco Antiguo
URL:https://fundacionmas.es/evento/iniciacion-al-frances-28/
END:VEVENT
BEGIN:VEVENT
DTSTART;TZID=Europe/Madrid:20260227T090000
DTEND;TZID=Europe/Madrid:20260227T120000
DTSTAMP:20260421T172923
CREATED:20260202T125418Z
LAST-MODIFIED:20260202T125418Z
UID:10000605-1772182800-1772193600@fundacionmas.es
SUMMARY:Cocina Tradicional III
DESCRIPTION:Organiza: Distrito de Casco Antiguo
URL:https://fundacionmas.es/evento/cocina-tradicional-iii-14/
END:VEVENT
BEGIN:VEVENT
DTSTART;TZID=Europe/Madrid:20260227T170000
DTEND;TZID=Europe/Madrid:20260227T200000
DTSTAMP:20260421T172923
CREATED:20260216T130539Z
LAST-MODIFIED:20260216T130539Z
UID:10000677-1772211600-1772222400@fundacionmas.es
SUMMARY:Ensayo Dramaturgos
DESCRIPTION:Organiza: Escuela Superior de Arte Dramático de Sevilla\, ESAD.
URL:https://fundacionmas.es/evento/ensayo-dramaturgos-2/
END:VEVENT
END:VCALENDAR