BEGIN:VCALENDAR
VERSION:2.0
PRODID:-//Fundación MAS - ECPv6.15.17.1//NONSGML v1.0//EN
CALSCALE:GREGORIAN
METHOD:PUBLISH
X-ORIGINAL-URL:https://fundacionmas.es
X-WR-CALDESC:Eventos para Fundación MAS
REFRESH-INTERVAL;VALUE=DURATION:PT1H
X-Robots-Tag:noindex
X-PUBLISHED-TTL:PT1H
BEGIN:VTIMEZONE
TZID:Europe/Madrid
BEGIN:DAYLIGHT
TZOFFSETFROM:+0100
TZOFFSETTO:+0200
TZNAME:CEST
DTSTART:20250330T010000
END:DAYLIGHT
BEGIN:STANDARD
TZOFFSETFROM:+0200
TZOFFSETTO:+0100
TZNAME:CET
DTSTART:20251026T010000
END:STANDARD
BEGIN:DAYLIGHT
TZOFFSETFROM:+0100
TZOFFSETTO:+0200
TZNAME:CEST
DTSTART:20260329T010000
END:DAYLIGHT
BEGIN:STANDARD
TZOFFSETFROM:+0200
TZOFFSETTO:+0100
TZNAME:CET
DTSTART:20261025T010000
END:STANDARD
BEGIN:DAYLIGHT
TZOFFSETFROM:+0100
TZOFFSETTO:+0200
TZNAME:CEST
DTSTART:20270328T010000
END:DAYLIGHT
BEGIN:STANDARD
TZOFFSETFROM:+0200
TZOFFSETTO:+0100
TZNAME:CET
DTSTART:20271031T010000
END:STANDARD
END:VTIMEZONE
BEGIN:VEVENT
DTSTART;TZID=Europe/Madrid:20260202T090000
DTEND;TZID=Europe/Madrid:20260202T120000
DTSTAMP:20260421T150015
CREATED:20251205T171856Z
LAST-MODIFIED:20251205T171856Z
UID:10000523-1770022800-1770033600@fundacionmas.es
SUMMARY:Cocina Tradicional I
DESCRIPTION:Organizado: Distrito Casco Antiguo
URL:https://fundacionmas.es/evento/cocina-tradicional-i-11/
END:VEVENT
BEGIN:VEVENT
DTSTART;TZID=Europe/Madrid:20260202T170000
DTEND;TZID=Europe/Madrid:20260202T190000
DTSTAMP:20260421T150015
CREATED:20251209T143446Z
LAST-MODIFIED:20251209T143446Z
UID:10000562-1770051600-1770058800@fundacionmas.es
SUMMARY:Taller de la memoria
DESCRIPTION:Organiza: Distrito Casco Antiguo
URL:https://fundacionmas.es/evento/taller-de-la-memoria-13/
END:VEVENT
BEGIN:VEVENT
DTSTART;TZID=Europe/Madrid:20260202T170000
DTEND;TZID=Europe/Madrid:20260202T190000
DTSTAMP:20260421T150015
CREATED:20260202T134411Z
LAST-MODIFIED:20260202T134434Z
UID:10000635-1770051600-1770058800@fundacionmas.es
SUMMARY:Taller Cocina para niños
DESCRIPTION:Organiza: Distrito del Casco Antiguo.
URL:https://fundacionmas.es/evento/taller-cocina-para-ninos-6/
END:VEVENT
BEGIN:VEVENT
DTSTART;TZID=Europe/Madrid:20260203T090000
DTEND;TZID=Europe/Madrid:20260203T120000
DTSTAMP:20260421T150015
CREATED:20251209T150119Z
LAST-MODIFIED:20251209T150119Z
UID:10000583-1770109200-1770120000@fundacionmas.es
SUMMARY:Cocina Internacional II
DESCRIPTION:Organiza: Distrito de Casco Antiguo
URL:https://fundacionmas.es/evento/cocina-internacional-ii-2/
END:VEVENT
BEGIN:VEVENT
DTSTART;TZID=Europe/Madrid:20260203T173000
DTEND;TZID=Europe/Madrid:20260203T183000
DTSTAMP:20260421T150015
CREATED:20260203T162034Z
LAST-MODIFIED:20260203T162034Z
UID:10000647-1770139800-1770143400@fundacionmas.es
SUMMARY:Becas de Inglés
DESCRIPTION:Organizado: Fundación MAS
URL:https://fundacionmas.es/evento/becas-de-ingles-59/
END:VEVENT
BEGIN:VEVENT
DTSTART;TZID=Europe/Madrid:20260203T184500
DTEND;TZID=Europe/Madrid:20260203T201500
DTSTAMP:20260421T150015
CREATED:20251209T134810Z
LAST-MODIFIED:20251209T134810Z
UID:10000546-1770144300-1770149700@fundacionmas.es
SUMMARY:Iniciación al Francés
DESCRIPTION:Organiza: Distrito de Casco Antiguo
URL:https://fundacionmas.es/evento/iniciacion-al-frances-21/
END:VEVENT
BEGIN:VEVENT
DTSTART;TZID=Europe/Madrid:20260204T170000
DTEND;TZID=Europe/Madrid:20260204T190000
DTSTAMP:20260421T150015
CREATED:20251209T143517Z
LAST-MODIFIED:20251209T143517Z
UID:10000563-1770224400-1770231600@fundacionmas.es
SUMMARY:Taller de la memoria
DESCRIPTION:Organiza: Distrito Casco Antiguo
URL:https://fundacionmas.es/evento/taller-de-la-memoria-14/
END:VEVENT
BEGIN:VEVENT
DTSTART;TZID=Europe/Madrid:20260205T090000
DTEND;TZID=Europe/Madrid:20260205T120000
DTSTAMP:20260421T150015
CREATED:20260202T124402Z
LAST-MODIFIED:20260202T165737Z
UID:10000596-1770282000-1770292800@fundacionmas.es
SUMMARY:Cocina Internacional
DESCRIPTION:Organiza: Distrito de Casco Antiguo
URL:https://fundacionmas.es/evento/cocina-tradicional-4/
END:VEVENT
BEGIN:VEVENT
DTSTART;TZID=Europe/Madrid:20260205T173000
DTEND;TZID=Europe/Madrid:20260205T183000
DTSTAMP:20260421T150015
CREATED:20260203T162114Z
LAST-MODIFIED:20260203T162114Z
UID:10000648-1770312600-1770316200@fundacionmas.es
SUMMARY:Becas de Inglés
DESCRIPTION:Organizado: Fundación MAS
URL:https://fundacionmas.es/evento/becas-de-ingles-60/
END:VEVENT
BEGIN:VEVENT
DTSTART;TZID=Europe/Madrid:20260205T184500
DTEND;TZID=Europe/Madrid:20260205T201500
DTSTAMP:20260421T150015
CREATED:20251209T134844Z
LAST-MODIFIED:20251209T134844Z
UID:10000547-1770317100-1770322500@fundacionmas.es
SUMMARY:Iniciación al Francés
DESCRIPTION:Organiza: Distrito de Casco Antiguo
URL:https://fundacionmas.es/evento/iniciacion-al-frances-22/
END:VEVENT
BEGIN:VEVENT
DTSTART;TZID=Europe/Madrid:20260206T090000
DTEND;TZID=Europe/Madrid:20260206T120000
DTSTAMP:20260421T150015
CREATED:20260202T125027Z
LAST-MODIFIED:20260202T125027Z
UID:10000600-1770368400-1770379200@fundacionmas.es
SUMMARY:Cocina Tradicional III
DESCRIPTION:Organiza: Distrito de Casco Antiguo
URL:https://fundacionmas.es/evento/cocina-tradicional-iii-10/
END:VEVENT
BEGIN:VEVENT
DTSTART;TZID=Europe/Madrid:20260206T090000
DTEND;TZID=Europe/Madrid:20260206T120000
DTSTAMP:20260421T150015
CREATED:20260202T125159Z
LAST-MODIFIED:20260202T125159Z
UID:10000602-1770368400-1770379200@fundacionmas.es
SUMMARY:Cocina Tradicional III
DESCRIPTION:Organiza: Distrito de Casco Antiguo
URL:https://fundacionmas.es/evento/cocina-tradicional-iii-11/
END:VEVENT
END:VCALENDAR