BEGIN:VCALENDAR
VERSION:2.0
PRODID:-//Fundación MAS - ECPv6.15.17.1//NONSGML v1.0//EN
CALSCALE:GREGORIAN
METHOD:PUBLISH
X-ORIGINAL-URL:https://fundacionmas.es
X-WR-CALDESC:Eventos para Fundación MAS
REFRESH-INTERVAL;VALUE=DURATION:PT1H
X-Robots-Tag:noindex
X-PUBLISHED-TTL:PT1H
BEGIN:VTIMEZONE
TZID:Europe/Madrid
BEGIN:DAYLIGHT
TZOFFSETFROM:+0100
TZOFFSETTO:+0200
TZNAME:CEST
DTSTART:20240331T010000
END:DAYLIGHT
BEGIN:STANDARD
TZOFFSETFROM:+0200
TZOFFSETTO:+0100
TZNAME:CET
DTSTART:20241027T010000
END:STANDARD
BEGIN:DAYLIGHT
TZOFFSETFROM:+0100
TZOFFSETTO:+0200
TZNAME:CEST
DTSTART:20250330T010000
END:DAYLIGHT
BEGIN:STANDARD
TZOFFSETFROM:+0200
TZOFFSETTO:+0100
TZNAME:CET
DTSTART:20251026T010000
END:STANDARD
BEGIN:DAYLIGHT
TZOFFSETFROM:+0100
TZOFFSETTO:+0200
TZNAME:CEST
DTSTART:20260329T010000
END:DAYLIGHT
BEGIN:STANDARD
TZOFFSETFROM:+0200
TZOFFSETTO:+0100
TZNAME:CET
DTSTART:20261025T010000
END:STANDARD
END:VTIMEZONE
BEGIN:VEVENT
DTSTART;TZID=Europe/Madrid:20251209T090000
DTEND;TZID=Europe/Madrid:20251209T120000
DTSTAMP:20260421T185439
CREATED:20251030T154517Z
LAST-MODIFIED:20251030T154517Z
UID:10000449-1765270800-1765281600@fundacionmas.es
SUMMARY:Cocina Tradicional II
DESCRIPTION:Organiza: Distrito de Casco Antiguo
URL:https://fundacionmas.es/evento/cocina-tradicional-ii-6/
END:VEVENT
BEGIN:VEVENT
DTSTART;TZID=Europe/Madrid:20251209T173000
DTEND;TZID=Europe/Madrid:20251209T183000
DTSTAMP:20260421T185439
CREATED:20251201T121155Z
LAST-MODIFIED:20251201T121155Z
UID:10000505-1765301400-1765305000@fundacionmas.es
SUMMARY:Becas de Inglés
DESCRIPTION:Organiza: Fundación MAS
URL:https://fundacionmas.es/evento/becas-de-ingles-49/
END:VEVENT
BEGIN:VEVENT
DTSTART;TZID=Europe/Madrid:20251209T184500
DTEND;TZID=Europe/Madrid:20251209T201500
DTSTAMP:20260421T185439
CREATED:20251104T190214Z
LAST-MODIFIED:20251104T190214Z
UID:10000482-1765305900-1765311300@fundacionmas.es
SUMMARY:Iniciación al Francés
DESCRIPTION:Organiza: Distrito de Casco Antiguo
URL:https://fundacionmas.es/evento/iniciacion-al-frances-12/
END:VEVENT
BEGIN:VEVENT
DTSTART;TZID=Europe/Madrid:20251210T093000
DTEND;TZID=Europe/Madrid:20251210T150000
DTSTAMP:20260421T185439
CREATED:20251209T141846Z
LAST-MODIFIED:20251209T141846Z
UID:10000554-1765359000-1765378800@fundacionmas.es
SUMMARY:Taller Cocina Internacional
DESCRIPTION:Organizado: Servicios Sociales San Juan de Dios
URL:https://fundacionmas.es/evento/taller-cocina-internacional-3/
END:VEVENT
BEGIN:VEVENT
DTSTART;TZID=Europe/Madrid:20251210T160000
DTEND;TZID=Europe/Madrid:20251210T203000
DTSTAMP:20260421T185439
CREATED:20251201T121957Z
LAST-MODIFIED:20251201T121957Z
UID:10000509-1765382400-1765398600@fundacionmas.es
SUMMARY:JORNADA DE VOLUNTARIADO “CÓDIGO ASAENES”: ESPACIOS DE CUIDADO\, VÍNCULO Y ACCIÓN"
DESCRIPTION:Organiza: Asaenes
URL:https://fundacionmas.es/evento/jornada-de-voluntariado-codigo-asaenes-espacios-de-cuidado-vinculo-y-accion/
END:VEVENT
BEGIN:VEVENT
DTSTART;TZID=Europe/Madrid:20251210T170000
DTEND;TZID=Europe/Madrid:20251210T190000
DTSTAMP:20260421T185439
CREATED:20251201T120539Z
LAST-MODIFIED:20251201T120539Z
UID:10000499-1765386000-1765393200@fundacionmas.es
SUMMARY:Taller de la memoria
DESCRIPTION:Organiza: Distrito Casco Antiguo
URL:https://fundacionmas.es/evento/taller-de-la-memoria-3/
END:VEVENT
BEGIN:VEVENT
DTSTART;TZID=Europe/Madrid:20251211T090000
DTEND;TZID=Europe/Madrid:20251211T120000
DTSTAMP:20260421T185439
CREATED:20251030T155010Z
LAST-MODIFIED:20251030T155010Z
UID:10000456-1765443600-1765454400@fundacionmas.es
SUMMARY:Cocina Internacional
DESCRIPTION:Organiza: Distrito de Casco Antiguo
URL:https://fundacionmas.es/evento/cocina-internacional-5/
END:VEVENT
BEGIN:VEVENT
DTSTART;TZID=Europe/Madrid:20251211T173000
DTEND;TZID=Europe/Madrid:20251211T183000
DTSTAMP:20260421T185439
CREATED:20251201T121236Z
LAST-MODIFIED:20251201T121236Z
UID:10000506-1765474200-1765477800@fundacionmas.es
SUMMARY:Becas de Inglés
DESCRIPTION:Organiza: Fundación MAS
URL:https://fundacionmas.es/evento/becas-de-ingles-50/
END:VEVENT
BEGIN:VEVENT
DTSTART;TZID=Europe/Madrid:20251212T090000
DTEND;TZID=Europe/Madrid:20251212T120000
DTSTAMP:20260421T185439
CREATED:20251030T155632Z
LAST-MODIFIED:20251030T164031Z
UID:10000462-1765530000-1765540800@fundacionmas.es
SUMMARY:Cocina Tradicional III
DESCRIPTION:Organiza: Distrito de Casco Antiguo
URL:https://fundacionmas.es/evento/cocina-tradicional-iii-3/
END:VEVENT
END:VCALENDAR