BEGIN:VCALENDAR
VERSION:2.0
PRODID:-//Fundación MAS - ECPv6.15.17.1//NONSGML v1.0//EN
CALSCALE:GREGORIAN
METHOD:PUBLISH
X-WR-CALNAME:Fundación MAS
X-ORIGINAL-URL:https://fundacionmas.es
X-WR-CALDESC:Eventos para Fundación MAS
REFRESH-INTERVAL;VALUE=DURATION:PT1H
X-Robots-Tag:noindex
X-PUBLISHED-TTL:PT1H
BEGIN:VTIMEZONE
TZID:Europe/Madrid
BEGIN:DAYLIGHT
TZOFFSETFROM:+0100
TZOFFSETTO:+0200
TZNAME:CEST
DTSTART:20240331T010000
END:DAYLIGHT
BEGIN:STANDARD
TZOFFSETFROM:+0200
TZOFFSETTO:+0100
TZNAME:CET
DTSTART:20241027T010000
END:STANDARD
BEGIN:DAYLIGHT
TZOFFSETFROM:+0100
TZOFFSETTO:+0200
TZNAME:CEST
DTSTART:20250330T010000
END:DAYLIGHT
BEGIN:STANDARD
TZOFFSETFROM:+0200
TZOFFSETTO:+0100
TZNAME:CET
DTSTART:20251026T010000
END:STANDARD
BEGIN:DAYLIGHT
TZOFFSETFROM:+0100
TZOFFSETTO:+0200
TZNAME:CEST
DTSTART:20260329T010000
END:DAYLIGHT
BEGIN:STANDARD
TZOFFSETFROM:+0200
TZOFFSETTO:+0100
TZNAME:CET
DTSTART:20261025T010000
END:STANDARD
END:VTIMEZONE
BEGIN:VEVENT
DTSTART;TZID=Europe/Madrid:20251124T090000
DTEND;TZID=Europe/Madrid:20251124T120000
DTSTAMP:20260421T232125
CREATED:20251030T153719Z
LAST-MODIFIED:20251030T153719Z
UID:10000440-1763974800-1763985600@fundacionmas.es
SUMMARY:Cocina Tradicional I
DESCRIPTION:Organiza: Distrito de Casco Antiguo
URL:https://fundacionmas.es/evento/cocina-tradicional-i-3/
END:VEVENT
BEGIN:VEVENT
DTSTART;TZID=Europe/Madrid:20251124T183000
DTEND;TZID=Europe/Madrid:20251124T203000
DTSTAMP:20260421T232125
CREATED:20251024T164815Z
LAST-MODIFIED:20251024T164815Z
UID:10000434-1764009000-1764016200@fundacionmas.es
SUMMARY:Jornadas Gastropass 360º
DESCRIPTION:Organiza: Academia Andaluza de Gastronomía 
URL:https://fundacionmas.es/evento/jornadas-gastropass-360o-5/
END:VEVENT
BEGIN:VEVENT
DTSTART;TZID=Europe/Madrid:20251125T090000
DTEND;TZID=Europe/Madrid:20251125T120000
DTSTAMP:20260421T232125
CREATED:20251030T154411Z
LAST-MODIFIED:20251030T154411Z
UID:10000447-1764061200-1764072000@fundacionmas.es
SUMMARY:Cocina Tradicional II
DESCRIPTION:Organiza: Distrito de Casco Antiguo
URL:https://fundacionmas.es/evento/cocina-tradicional-ii-4/
END:VEVENT
BEGIN:VEVENT
DTSTART;TZID=Europe/Madrid:20251125T100000
DTEND;TZID=Europe/Madrid:20251125T140000
DTSTAMP:20260421T232125
CREATED:20251110T140342Z
LAST-MODIFIED:20251110T140342Z
UID:10000489-1764064800-1764079200@fundacionmas.es
SUMMARY:Jornada de empleo Fundación San Juan de Dios
DESCRIPTION:Organiza Fundación San Juan de Dios
URL:https://fundacionmas.es/evento/jornada-de-empleo-fundacion-san-juan-de-dios/
END:VEVENT
BEGIN:VEVENT
DTSTART;TZID=Europe/Madrid:20251125T173000
DTEND;TZID=Europe/Madrid:20251125T183000
DTSTAMP:20260421T232125
CREATED:20250925T150608Z
LAST-MODIFIED:20250925T150608Z
UID:10000411-1764091800-1764095400@fundacionmas.es
SUMMARY:Becas de Inglés
DESCRIPTION:Organiza: Fundación MAS
URL:https://fundacionmas.es/evento/becas-de-ingles-46/
END:VEVENT
BEGIN:VEVENT
DTSTART;TZID=Europe/Madrid:20251125T184500
DTEND;TZID=Europe/Madrid:20251125T201500
DTSTAMP:20260421T232125
CREATED:20251104T185553Z
LAST-MODIFIED:20251104T185553Z
UID:10000478-1764096300-1764101700@fundacionmas.es
SUMMARY:Iniciación al Francés
DESCRIPTION:Organiza: Distrito de Casco Antiguo
URL:https://fundacionmas.es/evento/iniciacion-al-frances-8/
END:VEVENT
BEGIN:VEVENT
DTSTART;TZID=Europe/Madrid:20251126T190000
DTEND;TZID=Europe/Madrid:20251126T203000
DTSTAMP:20260421T232125
CREATED:20251113T141428Z
LAST-MODIFIED:20251113T141428Z
UID:10000493-1764183600-1764189000@fundacionmas.es
SUMMARY:Presentación XVI Campaña "100. 000 Kilos de Ilusión"
DESCRIPTION:Organiza: Fundación MAS \nAsistencia mediante invitación previa.
URL:https://fundacionmas.es/evento/presentacion-xvi-campana-100-000-kilos-de-ilusion/
END:VEVENT
BEGIN:VEVENT
DTSTART;TZID=Europe/Madrid:20251127T173000
DTEND;TZID=Europe/Madrid:20251127T183000
DTSTAMP:20260421T232125
CREATED:20250925T150711Z
LAST-MODIFIED:20250925T150711Z
UID:10000412-1764264600-1764268200@fundacionmas.es
SUMMARY:Becas de Inglés
DESCRIPTION:Organiza: Fundación MAS
URL:https://fundacionmas.es/evento/becas-de-ingles-47/
END:VEVENT
BEGIN:VEVENT
DTSTART;TZID=Europe/Madrid:20251127T184500
DTEND;TZID=Europe/Madrid:20251127T201500
DTSTAMP:20260421T232125
CREATED:20251104T185630Z
LAST-MODIFIED:20251104T185630Z
UID:10000479-1764269100-1764274500@fundacionmas.es
SUMMARY:Iniciación al Francés
DESCRIPTION:Organiza: Distrito de Casco Antiguo
URL:https://fundacionmas.es/evento/iniciacion-al-frances-9/
END:VEVENT
BEGIN:VEVENT
DTSTART;TZID=Europe/Madrid:20251128T090000
DTEND;TZID=Europe/Madrid:20251128T120000
DTSTAMP:20260421T232125
CREATED:20251030T163557Z
LAST-MODIFIED:20251030T163557Z
UID:10000466-1764320400-1764331200@fundacionmas.es
SUMMARY:Cocina Tradicional III
DESCRIPTION:Organiza: Distrito de Casco Antiguo
URL:https://fundacionmas.es/evento/cocina-tradicional-iii-4/
END:VEVENT
BEGIN:VEVENT
DTSTART;TZID=Europe/Madrid:20251128T103000
DTEND;TZID=Europe/Madrid:20251128T120000
DTSTAMP:20260421T232125
CREATED:20251110T140712Z
LAST-MODIFIED:20251110T140712Z
UID:10000490-1764325800-1764331200@fundacionmas.es
SUMMARY:Consejo Andaluz Cámara de Comercio  ( Formación Dual para el empleo )
DESCRIPTION:Organiza: Cámara de Comercio
URL:https://fundacionmas.es/evento/consejo-andaluz-camara-de-comercio-formacion-dual-para-el-empleo/
END:VEVENT
END:VCALENDAR