BEGIN:VCALENDAR
VERSION:2.0
PRODID:-//Fundación MAS - ECPv6.15.17.1//NONSGML v1.0//EN
CALSCALE:GREGORIAN
METHOD:PUBLISH
X-WR-CALNAME:Fundación MAS
X-ORIGINAL-URL:https://fundacionmas.es
X-WR-CALDESC:Eventos para Fundación MAS
REFRESH-INTERVAL;VALUE=DURATION:PT1H
X-Robots-Tag:noindex
X-PUBLISHED-TTL:PT1H
BEGIN:VTIMEZONE
TZID:Europe/Madrid
BEGIN:DAYLIGHT
TZOFFSETFROM:+0100
TZOFFSETTO:+0200
TZNAME:CEST
DTSTART:20240331T010000
END:DAYLIGHT
BEGIN:STANDARD
TZOFFSETFROM:+0200
TZOFFSETTO:+0100
TZNAME:CET
DTSTART:20241027T010000
END:STANDARD
BEGIN:DAYLIGHT
TZOFFSETFROM:+0100
TZOFFSETTO:+0200
TZNAME:CEST
DTSTART:20250330T010000
END:DAYLIGHT
BEGIN:STANDARD
TZOFFSETFROM:+0200
TZOFFSETTO:+0100
TZNAME:CET
DTSTART:20251026T010000
END:STANDARD
BEGIN:DAYLIGHT
TZOFFSETFROM:+0100
TZOFFSETTO:+0200
TZNAME:CEST
DTSTART:20260329T010000
END:DAYLIGHT
BEGIN:STANDARD
TZOFFSETFROM:+0200
TZOFFSETTO:+0100
TZNAME:CET
DTSTART:20261025T010000
END:STANDARD
END:VTIMEZONE
BEGIN:VEVENT
DTSTART;TZID=Europe/Madrid:20251020T090000
DTEND;TZID=Europe/Madrid:20251020T200000
DTSTAMP:20260422T010753
CREATED:20251015T160135Z
LAST-MODIFIED:20251015T160135Z
UID:10000423-1760950800-1760990400@fundacionmas.es
SUMMARY:Formación Fundación Banco Alimentos Sevilla
DESCRIPTION:Organiza: Fundación Banco de Alimentos
URL:https://fundacionmas.es/evento/formacion-fundacion-banco-alimentos-sevilla/
END:VEVENT
BEGIN:VEVENT
DTSTART;TZID=Europe/Madrid:20251020T110000
DTEND;TZID=Europe/Madrid:20251020T123000
DTSTAMP:20260422T010753
CREATED:20251015T160520Z
LAST-MODIFIED:20251015T160520Z
UID:10000424-1760958000-1760963400@fundacionmas.es
SUMMARY:Seminario sobre Sostenibilidad Universidad de Sevilla
DESCRIPTION:Organiza : Universidad de Sevilla
URL:https://fundacionmas.es/evento/seminario-sobre-sostenibilidad-universidad-de-sevilla/
END:VEVENT
BEGIN:VEVENT
DTSTART;TZID=Europe/Madrid:20251021T173000
DTEND;TZID=Europe/Madrid:20251021T183000
DTSTAMP:20260422T010753
CREATED:20250925T144644Z
LAST-MODIFIED:20250925T145042Z
UID:10000400-1761067800-1761071400@fundacionmas.es
SUMMARY:Becas de Inglés
DESCRIPTION:Organiza. Fundación MAS
URL:https://fundacionmas.es/evento/becas-de-ingles-35/
END:VEVENT
BEGIN:VEVENT
DTSTART;TZID=Europe/Madrid:20251023T090000
DTEND;TZID=Europe/Madrid:20251023T173000
DTSTAMP:20260422T010753
CREATED:20251015T161419Z
LAST-MODIFIED:20251015T161419Z
UID:10000425-1761210000-1761240600@fundacionmas.es
SUMMARY:Invest2Impact: Acelerando proyectos europeos con inversión estratégica
DESCRIPTION:Organiza: Corporación Tecnológica Andalucía
URL:https://fundacionmas.es/evento/invest2impact-acelerando-proyectos-europeos-con-inversion-estrategica/
END:VEVENT
BEGIN:VEVENT
DTSTART;TZID=Europe/Madrid:20251023T173000
DTEND;TZID=Europe/Madrid:20251023T183000
DTSTAMP:20260422T010753
CREATED:20250925T145314Z
LAST-MODIFIED:20250925T145314Z
UID:10000402-1761240600-1761244200@fundacionmas.es
SUMMARY:Becas de Inglés
DESCRIPTION:Organiza. Fundación MAS
URL:https://fundacionmas.es/evento/becas-de-ingles-37/
END:VEVENT
BEGIN:VEVENT
DTSTART;TZID=Europe/Madrid:20251024T113000
DTEND;TZID=Europe/Madrid:20251024T130000
DTSTAMP:20260422T010753
CREATED:20251024T165142Z
LAST-MODIFIED:20251024T165142Z
UID:10000435-1761305400-1761310800@fundacionmas.es
SUMMARY:Visita Escolar CEIP Nuestra Señora del Carmen
DESCRIPTION:Organiza: Fundación MAS y CEIP Nuestra Señora del Carmen
URL:https://fundacionmas.es/evento/visita-escolar-ceip-nuestra-senora-del-carmen/
END:VEVENT
BEGIN:VEVENT
DTSTART;TZID=Europe/Madrid:20251024T190000
DTEND;TZID=Europe/Madrid:20251024T210000
DTSTAMP:20260422T010753
CREATED:20251024T163800Z
LAST-MODIFIED:20251024T163800Z
UID:10000428-1761332400-1761339600@fundacionmas.es
SUMMARY:Presentación El Libro de los Abrazos
DESCRIPTION:Organiza: Manos Unidas
URL:https://fundacionmas.es/evento/presentacion-el-libro-de-los-abrazos/
END:VEVENT
END:VCALENDAR