BEGIN:VCALENDAR
VERSION:2.0
PRODID:-//Fundación MAS - ECPv6.15.17.1//NONSGML v1.0//EN
CALSCALE:GREGORIAN
METHOD:PUBLISH
X-ORIGINAL-URL:https://fundacionmas.es
X-WR-CALDESC:Eventos para Fundación MAS
REFRESH-INTERVAL;VALUE=DURATION:PT1H
X-Robots-Tag:noindex
X-PUBLISHED-TTL:PT1H
BEGIN:VTIMEZONE
TZID:Europe/Madrid
BEGIN:DAYLIGHT
TZOFFSETFROM:+0100
TZOFFSETTO:+0200
TZNAME:CEST
DTSTART:20240331T010000
END:DAYLIGHT
BEGIN:STANDARD
TZOFFSETFROM:+0200
TZOFFSETTO:+0100
TZNAME:CET
DTSTART:20241027T010000
END:STANDARD
BEGIN:DAYLIGHT
TZOFFSETFROM:+0100
TZOFFSETTO:+0200
TZNAME:CEST
DTSTART:20250330T010000
END:DAYLIGHT
BEGIN:STANDARD
TZOFFSETFROM:+0200
TZOFFSETTO:+0100
TZNAME:CET
DTSTART:20251026T010000
END:STANDARD
BEGIN:DAYLIGHT
TZOFFSETFROM:+0100
TZOFFSETTO:+0200
TZNAME:CEST
DTSTART:20260329T010000
END:DAYLIGHT
BEGIN:STANDARD
TZOFFSETFROM:+0200
TZOFFSETTO:+0100
TZNAME:CET
DTSTART:20261025T010000
END:STANDARD
END:VTIMEZONE
BEGIN:VEVENT
DTSTART;TZID=Europe/Madrid:20250526T090000
DTEND;TZID=Europe/Madrid:20250526T120000
DTSTAMP:20260424T121252
CREATED:20250428T162612Z
LAST-MODIFIED:20250428T162612Z
UID:10000323-1748250000-1748260800@fundacionmas.es
SUMMARY:T. Cocina Tradicional I
DESCRIPTION:Organiza: Distrito Casco Antiguo
URL:https://fundacionmas.es/evento/t-cocina-tradicional-i/
END:VEVENT
BEGIN:VEVENT
DTSTART;TZID=Europe/Madrid:20250526T170000
DTEND;TZID=Europe/Madrid:20250526T190000
DTSTAMP:20260424T121252
CREATED:20250428T162315Z
LAST-MODIFIED:20250428T162315Z
UID:10000320-1748278800-1748286000@fundacionmas.es
SUMMARY:Taller Cocina para niños
DESCRIPTION:Organiza: Distrito del Casco Antiguo.
URL:https://fundacionmas.es/evento/taller-cocina-para-ninos-4/
END:VEVENT
BEGIN:VEVENT
DTSTART;TZID=Europe/Madrid:20250527T090000
DTEND;TZID=Europe/Madrid:20250527T120000
DTSTAMP:20260424T121252
CREATED:20250515T090529Z
LAST-MODIFIED:20250515T090529Z
UID:10000330-1748336400-1748347200@fundacionmas.es
SUMMARY:Taller Cocina Tradicional II
DESCRIPTION:Organiza: Distrito del Casco Antiguo.
URL:https://fundacionmas.es/evento/taller-cocina-tradicional-ii-5/
END:VEVENT
BEGIN:VEVENT
DTSTART;TZID=Europe/Madrid:20250527T173000
DTEND;TZID=Europe/Madrid:20250527T183000
DTSTAMP:20260424T121252
CREATED:20250410T095328Z
LAST-MODIFIED:20250410T095328Z
UID:10000289-1748367000-1748370600@fundacionmas.es
SUMMARY:Becas de Inglés
DESCRIPTION:Organiza: Fundación MAS.
URL:https://fundacionmas.es/evento/becas-de-ingles-30/
END:VEVENT
BEGIN:VEVENT
DTSTART;TZID=Europe/Madrid:20250527T180000
DTEND;TZID=Europe/Madrid:20250527T200000
DTSTAMP:20260424T121252
CREATED:20250515T090639Z
LAST-MODIFIED:20250515T090639Z
UID:10000331-1748368800-1748376000@fundacionmas.es
SUMMARY:US + Consulado de Rumanía
DESCRIPTION:Organiza: Universidad de Sevilla.
URL:https://fundacionmas.es/evento/us-consulado-de-rumania/
END:VEVENT
BEGIN:VEVENT
DTSTART;TZID=Europe/Madrid:20250528T170000
DTEND;TZID=Europe/Madrid:20250528T190000
DTSTAMP:20260424T121252
CREATED:20250423T110834Z
LAST-MODIFIED:20250423T110834Z
UID:10000310-1748451600-1748458800@fundacionmas.es
SUMMARY:Clases de Español para Refugiados Ucrarianos
DESCRIPTION:Organiza: Esteban Guzmán Sánchez
URL:https://fundacionmas.es/evento/clases-de-espanol-para-refugiados-ucrarianos-3/
END:VEVENT
BEGIN:VEVENT
DTSTART;TZID=Europe/Madrid:20250528T180000
DTEND;TZID=Europe/Madrid:20250528T200000
DTSTAMP:20260424T121252
CREATED:20250515T090955Z
LAST-MODIFIED:20250515T090955Z
UID:10000333-1748455200-1748462400@fundacionmas.es
SUMMARY:Formación Metro de Sevilla
DESCRIPTION:Organiza: Sevilla Quiere Metro.
URL:https://fundacionmas.es/evento/formacion-metro-de-sevilla/
END:VEVENT
BEGIN:VEVENT
DTSTART;TZID=Europe/Madrid:20250529T090000
DTEND;TZID=Europe/Madrid:20250529T120000
DTSTAMP:20260424T121252
CREATED:20250515T083903Z
LAST-MODIFIED:20250515T085345Z
UID:10000325-1748509200-1748520000@fundacionmas.es
SUMMARY:Taller Cocina Internacional
DESCRIPTION:Organiza: Distrito del Casco Antiguo.
URL:https://fundacionmas.es/evento/reunion-asociaciones-ambientales/
END:VEVENT
BEGIN:VEVENT
DTSTART;TZID=Europe/Madrid:20250529T093000
DTEND;TZID=Europe/Madrid:20250529T150000
DTSTAMP:20260424T121252
CREATED:20250428T162140Z
LAST-MODIFIED:20250428T162140Z
UID:10000319-1748511000-1748530800@fundacionmas.es
SUMMARY:Jornada Desde la Coordinación de parentalidad hacia la psicología
DESCRIPTION:Organiza: Colegio Oficial de Psicología Andalucía Occidental
URL:https://fundacionmas.es/evento/jornada-desde-la-coordinacion-de-parentalidad-hacia-la-psicologia/
END:VEVENT
BEGIN:VEVENT
DTSTART;TZID=Europe/Madrid:20250529T173000
DTEND;TZID=Europe/Madrid:20250529T183000
DTSTAMP:20260424T121252
CREATED:20250410T095511Z
LAST-MODIFIED:20250410T095511Z
UID:10000290-1748539800-1748543400@fundacionmas.es
SUMMARY:Becas de Inglés
DESCRIPTION:Organiza: Fundación MAS.
URL:https://fundacionmas.es/evento/becas-de-ingles-31/
END:VEVENT
BEGIN:VEVENT
DTSTART;TZID=Europe/Madrid:20250530T090000
DTEND;TZID=Europe/Madrid:20250530T120000
DTSTAMP:20260424T121252
CREATED:20250428T162730Z
LAST-MODIFIED:20250428T162730Z
UID:10000322-1748595600-1748606400@fundacionmas.es
SUMMARY:Taller Cocina Tradicional III
DESCRIPTION:Organiza: Distrito del Casco Antiguo.
URL:https://fundacionmas.es/evento/taller-cocina-tradicional-iii-3/
END:VEVENT
BEGIN:VEVENT
DTSTART;TZID=Europe/Madrid:20250601T110000
DTEND;TZID=Europe/Madrid:20250601T180000
DTSTAMP:20260424T121252
CREATED:20250517T094614Z
LAST-MODIFIED:20250526T124238Z
UID:10000334-1748775600-1748800800@fundacionmas.es
SUMMARY:¡Haz tu donación para la XIII Maratón Solidaria!
DESCRIPTION:Recaudación destinada al Centro de Estimulación Infantil de la Hermandad del Buen Fin \nDomingo 1 de junio. 11:00 h. \nColegio Claret Sevilla. \nEntrada c/ Monzón.
URL:https://fundacionmas.es/evento/xiii-maraton-solidaria/
ORGANIZER;CN="Fundaci%C3%B3n MAS":MAILTO:contacto@fundacionmas.es
END:VEVENT
END:VCALENDAR