BEGIN:VCALENDAR
VERSION:2.0
PRODID:-//Fundación MAS - ECPv6.15.17.1//NONSGML v1.0//EN
CALSCALE:GREGORIAN
METHOD:PUBLISH
X-WR-CALNAME:Fundación MAS
X-ORIGINAL-URL:https://fundacionmas.es
X-WR-CALDESC:Eventos para Fundación MAS
REFRESH-INTERVAL;VALUE=DURATION:PT1H
X-Robots-Tag:noindex
X-PUBLISHED-TTL:PT1H
BEGIN:VTIMEZONE
TZID:Europe/Madrid
BEGIN:DAYLIGHT
TZOFFSETFROM:+0100
TZOFFSETTO:+0200
TZNAME:CEST
DTSTART:20240331T010000
END:DAYLIGHT
BEGIN:STANDARD
TZOFFSETFROM:+0200
TZOFFSETTO:+0100
TZNAME:CET
DTSTART:20241027T010000
END:STANDARD
BEGIN:DAYLIGHT
TZOFFSETFROM:+0100
TZOFFSETTO:+0200
TZNAME:CEST
DTSTART:20250330T010000
END:DAYLIGHT
BEGIN:STANDARD
TZOFFSETFROM:+0200
TZOFFSETTO:+0100
TZNAME:CET
DTSTART:20251026T010000
END:STANDARD
BEGIN:DAYLIGHT
TZOFFSETFROM:+0100
TZOFFSETTO:+0200
TZNAME:CEST
DTSTART:20260329T010000
END:DAYLIGHT
BEGIN:STANDARD
TZOFFSETFROM:+0200
TZOFFSETTO:+0100
TZNAME:CET
DTSTART:20261025T010000
END:STANDARD
END:VTIMEZONE
BEGIN:VEVENT
DTSTART;TZID=Europe/Madrid:20250428T090000
DTEND;TZID=Europe/Madrid:20250428T120000
DTSTAMP:20260422T091441
CREATED:20250326T122444Z
LAST-MODIFIED:20250326T122444Z
UID:10000268-1745830800-1745841600@fundacionmas.es
SUMMARY:Taller Cocina Tradicional I
DESCRIPTION:Organiza: Distrito Casco Antiguo
URL:https://fundacionmas.es/evento/taller-cocina-tradicional-i-2/
END:VEVENT
BEGIN:VEVENT
DTSTART;TZID=Europe/Madrid:20250428T170000
DTEND;TZID=Europe/Madrid:20250428T190000
DTSTAMP:20260422T091441
CREATED:20250326T122601Z
LAST-MODIFIED:20250326T122601Z
UID:10000269-1745859600-1745866800@fundacionmas.es
SUMMARY:Taller Cocina para niños
DESCRIPTION:Organiza: Distrito Casco Antiguo
URL:https://fundacionmas.es/evento/taller-cocina-para-ninos-2/
END:VEVENT
BEGIN:VEVENT
DTSTART;TZID=Europe/Madrid:20250429T090000
DTEND;TZID=Europe/Madrid:20250429T120000
DTSTAMP:20260422T091441
CREATED:20250326T122704Z
LAST-MODIFIED:20250326T122704Z
UID:10000270-1745917200-1745928000@fundacionmas.es
SUMMARY:Taller Cocina Tradicional II
DESCRIPTION:Organiza: Distrito Casco Antiguo
URL:https://fundacionmas.es/evento/taller-cocina-tradicional-ii-2/
END:VEVENT
BEGIN:VEVENT
DTSTART;TZID=Europe/Madrid:20250429T173000
DTEND;TZID=Europe/Madrid:20250429T183000
DTSTAMP:20260422T091441
CREATED:20250326T122834Z
LAST-MODIFIED:20250326T122834Z
UID:10000271-1745947800-1745951400@fundacionmas.es
SUMMARY:Becas de Inglés
DESCRIPTION:Organiza: Fundación MAS
URL:https://fundacionmas.es/evento/becas-de-ingles-23/
END:VEVENT
BEGIN:VEVENT
DTSTART;TZID=Europe/Madrid:20250429T180000
DTEND;TZID=Europe/Madrid:20250429T200000
DTSTAMP:20260422T091441
CREATED:20250428T155705Z
LAST-MODIFIED:20250428T155705Z
UID:10000318-1745949600-1745956800@fundacionmas.es
SUMMARY:Conferencia La Música en el Cine Alfred Hitchcock
DESCRIPTION:Organizado: Asociación Cultural La Linterna Mágica
URL:https://fundacionmas.es/evento/conferencia-la-musica-en-el-cine-alfred-hitchcock/
END:VEVENT
BEGIN:VEVENT
DTSTART;TZID=Europe/Madrid:20250430T170000
DTEND;TZID=Europe/Madrid:20250430T190000
DTSTAMP:20260422T091441
CREATED:20250402T093052Z
LAST-MODIFIED:20250402T093052Z
UID:10000275-1746032400-1746039600@fundacionmas.es
SUMMARY:Clases de Español para Refugiados Ucranianos
DESCRIPTION:Organizado por Esteban Guzmán Sánchez
URL:https://fundacionmas.es/evento/clases-de-espanol-para-refugiados-ucranianos-3/
END:VEVENT
BEGIN:VEVENT
DTSTART;TZID=Europe/Madrid:20250502T090000
DTEND;TZID=Europe/Madrid:20250502T120000
DTSTAMP:20260422T091441
CREATED:20250402T093514Z
LAST-MODIFIED:20250402T093514Z
UID:10000276-1746176400-1746187200@fundacionmas.es
SUMMARY:Taller Cocina Tradicional III
DESCRIPTION:Organiza: Distrito del Casco Antiguo.
URL:https://fundacionmas.es/evento/taller-cocina-tradicional-iii-2/
END:VEVENT
END:VCALENDAR