BEGIN:VCALENDAR
VERSION:2.0
PRODID:-//Fundación MAS - ECPv6.15.17.1//NONSGML v1.0//EN
CALSCALE:GREGORIAN
METHOD:PUBLISH
X-WR-CALNAME:Fundación MAS
X-ORIGINAL-URL:https://fundacionmas.es
X-WR-CALDESC:Eventos para Fundación MAS
REFRESH-INTERVAL;VALUE=DURATION:PT1H
X-Robots-Tag:noindex
X-PUBLISHED-TTL:PT1H
BEGIN:VTIMEZONE
TZID:Europe/Madrid
BEGIN:DAYLIGHT
TZOFFSETFROM:+0100
TZOFFSETTO:+0200
TZNAME:CEST
DTSTART:20250330T010000
END:DAYLIGHT
BEGIN:STANDARD
TZOFFSETFROM:+0200
TZOFFSETTO:+0100
TZNAME:CET
DTSTART:20251026T010000
END:STANDARD
BEGIN:DAYLIGHT
TZOFFSETFROM:+0100
TZOFFSETTO:+0200
TZNAME:CEST
DTSTART:20260329T010000
END:DAYLIGHT
BEGIN:STANDARD
TZOFFSETFROM:+0200
TZOFFSETTO:+0100
TZNAME:CET
DTSTART:20261025T010000
END:STANDARD
BEGIN:DAYLIGHT
TZOFFSETFROM:+0100
TZOFFSETTO:+0200
TZNAME:CEST
DTSTART:20270328T010000
END:DAYLIGHT
BEGIN:STANDARD
TZOFFSETFROM:+0200
TZOFFSETTO:+0100
TZNAME:CET
DTSTART:20271031T010000
END:STANDARD
END:VTIMEZONE
BEGIN:VEVENT
DTSTART;TZID=Europe/Madrid:20260324T090000
DTEND;TZID=Europe/Madrid:20260324T120000
DTSTAMP:20260421T130653
CREATED:20260202T132225Z
LAST-MODIFIED:20260202T132225Z
UID:10000616-1774342800-1774353600@fundacionmas.es
SUMMARY:Cocina Tradicional II
DESCRIPTION:Organiza: Distrito de Casco Antiguo
URL:https://fundacionmas.es/evento/cocina-tradicional-ii-9/
END:VEVENT
BEGIN:VEVENT
DTSTART;TZID=Europe/Madrid:20260324T090000
DTEND;TZID=Europe/Madrid:20260324T150000
DTSTAMP:20260421T130653
CREATED:20260309T162655Z
LAST-MODIFIED:20260309T162655Z
UID:10000689-1774342800-1774364400@fundacionmas.es
SUMMARY:Jornadas Conservatorio CSM Manuel Castillo
DESCRIPTION:Organizado: Conservatorio Manuel Castillo
URL:https://fundacionmas.es/evento/jornadas-conservatorio-csm-manuel-castillo-2/
END:VEVENT
BEGIN:VEVENT
DTSTART;TZID=Europe/Madrid:20260324T110000
DTEND;TZID=Europe/Madrid:20260324T120000
DTSTAMP:20260421T130653
CREATED:20260309T163225Z
LAST-MODIFIED:20260309T163225Z
UID:10000693-1774350000-1774353600@fundacionmas.es
SUMMARY:Día Mundial del Autismo Mesa redonda
DESCRIPTION:Organiza: Autismo Sevilla
URL:https://fundacionmas.es/evento/dia-mundial-del-autismo-mesa-redonda/
END:VEVENT
BEGIN:VEVENT
DTSTART;TZID=Europe/Madrid:20260324T173000
DTEND;TZID=Europe/Madrid:20260324T183000
DTSTAMP:20260421T130653
CREATED:20260203T163754Z
LAST-MODIFIED:20260203T163754Z
UID:10000661-1774373400-1774377000@fundacionmas.es
SUMMARY:Becas de Inglés
DESCRIPTION:Organizado: Fundación MAS
URL:https://fundacionmas.es/evento/becas-de-ingles-72/
END:VEVENT
BEGIN:VEVENT
DTSTART;TZID=Europe/Madrid:20260324T184500
DTEND;TZID=Europe/Madrid:20260324T201500
DTSTAMP:20260421T130653
CREATED:20260202T132948Z
LAST-MODIFIED:20260202T132948Z
UID:10000624-1774377900-1774383300@fundacionmas.es
SUMMARY:Iniciación al Francés
DESCRIPTION:Organiza: Distrito de Casco Antiguo
URL:https://fundacionmas.es/evento/iniciacion-al-frances-34/
END:VEVENT
BEGIN:VEVENT
DTSTART;TZID=Europe/Madrid:20260324T190000
DTEND;TZID=Europe/Madrid:20260324T200000
DTSTAMP:20260421T130653
CREATED:20260319T155320Z
LAST-MODIFIED:20260319T160240Z
UID:10000705-1774378800-1774382400@fundacionmas.es
SUMMARY:Cinerorum
DESCRIPTION:Organiza: Asociación Artepuntas
URL:https://fundacionmas.es/evento/cinerorum/
END:VEVENT
END:VCALENDAR