BEGIN:VCALENDAR
VERSION:2.0
PRODID:-//Fundación MAS - ECPv6.15.17.1//NONSGML v1.0//EN
CALSCALE:GREGORIAN
METHOD:PUBLISH
X-WR-CALNAME:Fundación MAS
X-ORIGINAL-URL:https://fundacionmas.es
X-WR-CALDESC:Eventos para Fundación MAS
REFRESH-INTERVAL;VALUE=DURATION:PT1H
X-Robots-Tag:noindex
X-PUBLISHED-TTL:PT1H
BEGIN:VTIMEZONE
TZID:Europe/Madrid
BEGIN:DAYLIGHT
TZOFFSETFROM:+0100
TZOFFSETTO:+0200
TZNAME:CEST
DTSTART:20250330T010000
END:DAYLIGHT
BEGIN:STANDARD
TZOFFSETFROM:+0200
TZOFFSETTO:+0100
TZNAME:CET
DTSTART:20251026T010000
END:STANDARD
BEGIN:DAYLIGHT
TZOFFSETFROM:+0100
TZOFFSETTO:+0200
TZNAME:CEST
DTSTART:20260329T010000
END:DAYLIGHT
BEGIN:STANDARD
TZOFFSETFROM:+0200
TZOFFSETTO:+0100
TZNAME:CET
DTSTART:20261025T010000
END:STANDARD
BEGIN:DAYLIGHT
TZOFFSETFROM:+0100
TZOFFSETTO:+0200
TZNAME:CEST
DTSTART:20270328T010000
END:DAYLIGHT
BEGIN:STANDARD
TZOFFSETFROM:+0200
TZOFFSETTO:+0100
TZNAME:CET
DTSTART:20271031T010000
END:STANDARD
END:VTIMEZONE
BEGIN:VEVENT
DTSTART;TZID=Europe/Madrid:20260323T090000
DTEND;TZID=Europe/Madrid:20260323T120000
DTSTAMP:20260421T115429
CREATED:20260202T131824Z
LAST-MODIFIED:20260202T131824Z
UID:10000613-1774256400-1774267200@fundacionmas.es
SUMMARY:Cocina Tradicional I
DESCRIPTION:Organiza: Distrito de Casco Antiguo
URL:https://fundacionmas.es/evento/cocina-tradicional-i-16/
END:VEVENT
BEGIN:VEVENT
DTSTART;TZID=Europe/Madrid:20260323T090000
DTEND;TZID=Europe/Madrid:20260323T150000
DTSTAMP:20260421T115429
CREATED:20260309T162248Z
LAST-MODIFIED:20260309T162248Z
UID:10000688-1774256400-1774278000@fundacionmas.es
SUMMARY:Jornadas Conservatorio CSM Manuel Castillo
DESCRIPTION:Organizado: Conservatorio Manuel Castillo
URL:https://fundacionmas.es/evento/jornadas-conservatorio-csm-manuel-castillo/
END:VEVENT
BEGIN:VEVENT
DTSTART;TZID=Europe/Madrid:20260323T170000
DTEND;TZID=Europe/Madrid:20260323T190000
DTSTAMP:20260421T115429
CREATED:20260202T133932Z
LAST-MODIFIED:20260202T133932Z
UID:10000632-1774285200-1774292400@fundacionmas.es
SUMMARY:Taller de la memoria
DESCRIPTION:Organiza: Distrito Casco Antiguo
URL:https://fundacionmas.es/evento/taller-de-la-memoria-27/
END:VEVENT
END:VCALENDAR