BEGIN:VCALENDAR
VERSION:2.0
PRODID:-//Fundación MAS - ECPv6.15.17.1//NONSGML v1.0//EN
CALSCALE:GREGORIAN
METHOD:PUBLISH
X-WR-CALNAME:Fundación MAS
X-ORIGINAL-URL:https://fundacionmas.es
X-WR-CALDESC:Eventos para Fundación MAS
REFRESH-INTERVAL;VALUE=DURATION:PT1H
X-Robots-Tag:noindex
X-PUBLISHED-TTL:PT1H
BEGIN:VTIMEZONE
TZID:Europe/Madrid
BEGIN:DAYLIGHT
TZOFFSETFROM:+0100
TZOFFSETTO:+0200
TZNAME:CEST
DTSTART:20250330T010000
END:DAYLIGHT
BEGIN:STANDARD
TZOFFSETFROM:+0200
TZOFFSETTO:+0100
TZNAME:CET
DTSTART:20251026T010000
END:STANDARD
BEGIN:DAYLIGHT
TZOFFSETFROM:+0100
TZOFFSETTO:+0200
TZNAME:CEST
DTSTART:20260329T010000
END:DAYLIGHT
BEGIN:STANDARD
TZOFFSETFROM:+0200
TZOFFSETTO:+0100
TZNAME:CET
DTSTART:20261025T010000
END:STANDARD
BEGIN:DAYLIGHT
TZOFFSETFROM:+0100
TZOFFSETTO:+0200
TZNAME:CEST
DTSTART:20270328T010000
END:DAYLIGHT
BEGIN:STANDARD
TZOFFSETFROM:+0200
TZOFFSETTO:+0100
TZNAME:CET
DTSTART:20271031T010000
END:STANDARD
END:VTIMEZONE
BEGIN:VEVENT
DTSTART;TZID=Europe/Madrid:20260317T090000
DTEND;TZID=Europe/Madrid:20260317T120000
DTSTAMP:20260420T103102
CREATED:20260202T132059Z
LAST-MODIFIED:20260202T132059Z
UID:10000615-1773738000-1773748800@fundacionmas.es
SUMMARY:Cocina Tradicional II
DESCRIPTION:Organiza: Distrito de Casco Antiguo
URL:https://fundacionmas.es/evento/cocina-tradicional-ii-8/
END:VEVENT
BEGIN:VEVENT
DTSTART;TZID=Europe/Madrid:20260317T090000
DTEND;TZID=Europe/Madrid:20260317T140000
DTSTAMP:20260420T103102
CREATED:20260309T160255Z
LAST-MODIFIED:20260309T160255Z
UID:10000685-1773738000-1773756000@fundacionmas.es
SUMMARY:Fundación Club de Leones de Sevilla
DESCRIPTION:Organiza: Fundación Club de Leones de Sevilla
URL:https://fundacionmas.es/evento/fundacion-club-de-leones-de-sevilla/
END:VEVENT
BEGIN:VEVENT
DTSTART;TZID=Europe/Madrid:20260317T173000
DTEND;TZID=Europe/Madrid:20260317T183000
DTSTAMP:20260420T103102
CREATED:20260203T163427Z
LAST-MODIFIED:20260203T163427Z
UID:10000658-1773768600-1773772200@fundacionmas.es
SUMMARY:Becas de Inglés
DESCRIPTION:Organizado: Fundación MAS
URL:https://fundacionmas.es/evento/becas-de-ingles-70/
END:VEVENT
BEGIN:VEVENT
DTSTART;TZID=Europe/Madrid:20260317T184500
DTEND;TZID=Europe/Madrid:20260317T201500
DTSTAMP:20260420T103102
CREATED:20260202T132755Z
LAST-MODIFIED:20260202T132755Z
UID:10000622-1773773100-1773778500@fundacionmas.es
SUMMARY:Iniciación al Francés
DESCRIPTION:Organiza: Distrito de Casco Antiguo
URL:https://fundacionmas.es/evento/iniciacion-al-frances-32/
END:VEVENT
BEGIN:VEVENT
DTSTART;TZID=Europe/Madrid:20260317T190000
DTEND;TZID=Europe/Madrid:20260317T203000
DTSTAMP:20260420T103102
CREATED:20260309T160509Z
LAST-MODIFIED:20260309T160509Z
UID:10000686-1773774000-1773779400@fundacionmas.es
SUMMARY:Presentación Dulces Semana Santa
DESCRIPTION:Organiza: Academia de Gastronomía de Sevilla
URL:https://fundacionmas.es/evento/presentacion-dulces-semana-santa/
END:VEVENT
END:VCALENDAR