BEGIN:VCALENDAR
VERSION:2.0
PRODID:-//Fundación MAS - ECPv6.15.17.1//NONSGML v1.0//EN
CALSCALE:GREGORIAN
METHOD:PUBLISH
X-ORIGINAL-URL:https://fundacionmas.es
X-WR-CALDESC:Eventos para Fundación MAS
REFRESH-INTERVAL;VALUE=DURATION:PT1H
X-Robots-Tag:noindex
X-PUBLISHED-TTL:PT1H
BEGIN:VTIMEZONE
TZID:Europe/Madrid
BEGIN:DAYLIGHT
TZOFFSETFROM:+0100
TZOFFSETTO:+0200
TZNAME:CEST
DTSTART:20250330T010000
END:DAYLIGHT
BEGIN:STANDARD
TZOFFSETFROM:+0200
TZOFFSETTO:+0100
TZNAME:CET
DTSTART:20251026T010000
END:STANDARD
BEGIN:DAYLIGHT
TZOFFSETFROM:+0100
TZOFFSETTO:+0200
TZNAME:CEST
DTSTART:20260329T010000
END:DAYLIGHT
BEGIN:STANDARD
TZOFFSETFROM:+0200
TZOFFSETTO:+0100
TZNAME:CET
DTSTART:20261025T010000
END:STANDARD
BEGIN:DAYLIGHT
TZOFFSETFROM:+0100
TZOFFSETTO:+0200
TZNAME:CEST
DTSTART:20270328T010000
END:DAYLIGHT
BEGIN:STANDARD
TZOFFSETFROM:+0200
TZOFFSETTO:+0100
TZNAME:CET
DTSTART:20271031T010000
END:STANDARD
END:VTIMEZONE
BEGIN:VEVENT
DTSTART;TZID=Europe/Madrid:20260313T090000
DTEND;TZID=Europe/Madrid:20260313T120000
DTSTAMP:20260421T130953
CREATED:20260202T130934Z
LAST-MODIFIED:20260202T131005Z
UID:10000607-1773392400-1773403200@fundacionmas.es
SUMMARY:Cocina Tradicional III
DESCRIPTION:Organiza: Distrito de Casco Antiguo
URL:https://fundacionmas.es/evento/cocina-tradicional-iii-16/
END:VEVENT
BEGIN:VEVENT
DTSTART;TZID=Europe/Madrid:20260313T090000
DTEND;TZID=Europe/Madrid:20260313T120000
DTSTAMP:20260421T130953
CREATED:20260309T160745Z
LAST-MODIFIED:20260309T160745Z
UID:10000687-1773392400-1773403200@fundacionmas.es
SUMMARY:Reunión Gobernanza Empresarial
DESCRIPTION:Organiza: Instituto de Gobernanza Empresarial
URL:https://fundacionmas.es/evento/reunion-gobernanza-empresarial/
END:VEVENT
BEGIN:VEVENT
DTSTART;TZID=Europe/Madrid:20260313T093000
DTEND;TZID=Europe/Madrid:20260313T133000
DTSTAMP:20260421T130953
CREATED:20260309T154808Z
LAST-MODIFIED:20260309T154808Z
UID:10000683-1773394200-1773408600@fundacionmas.es
SUMMARY:Formación Madres Emprendedoras Digitales
DESCRIPTION:Organiza: Mentoria Triple M
URL:https://fundacionmas.es/evento/formacion-madres-emprendedoras-digitales/
END:VEVENT
END:VCALENDAR