BEGIN:VCALENDAR
VERSION:2.0
PRODID:-//Fundación MAS - ECPv6.15.17.1//NONSGML v1.0//EN
CALSCALE:GREGORIAN
METHOD:PUBLISH
X-WR-CALNAME:Fundación MAS
X-ORIGINAL-URL:https://fundacionmas.es
X-WR-CALDESC:Eventos para Fundación MAS
REFRESH-INTERVAL;VALUE=DURATION:PT1H
X-Robots-Tag:noindex
X-PUBLISHED-TTL:PT1H
BEGIN:VTIMEZONE
TZID:Europe/Madrid
BEGIN:DAYLIGHT
TZOFFSETFROM:+0100
TZOFFSETTO:+0200
TZNAME:CEST
DTSTART:20250330T010000
END:DAYLIGHT
BEGIN:STANDARD
TZOFFSETFROM:+0200
TZOFFSETTO:+0100
TZNAME:CET
DTSTART:20251026T010000
END:STANDARD
BEGIN:DAYLIGHT
TZOFFSETFROM:+0100
TZOFFSETTO:+0200
TZNAME:CEST
DTSTART:20260329T010000
END:DAYLIGHT
BEGIN:STANDARD
TZOFFSETFROM:+0200
TZOFFSETTO:+0100
TZNAME:CET
DTSTART:20261025T010000
END:STANDARD
BEGIN:DAYLIGHT
TZOFFSETFROM:+0100
TZOFFSETTO:+0200
TZNAME:CEST
DTSTART:20270328T010000
END:DAYLIGHT
BEGIN:STANDARD
TZOFFSETFROM:+0200
TZOFFSETTO:+0100
TZNAME:CET
DTSTART:20271031T010000
END:STANDARD
END:VTIMEZONE
BEGIN:VEVENT
DTSTART;TZID=Europe/Madrid:20260312T090000
DTEND;TZID=Europe/Madrid:20260312T120000
DTSTAMP:20260421T115440
CREATED:20260323T150924Z
LAST-MODIFIED:20260323T150924Z
UID:10000717-1773306000-1773316800@fundacionmas.es
SUMMARY:Cocina Tradicional
DESCRIPTION:Organiza: Distrito de Casco Antiguo
URL:https://fundacionmas.es/evento/cocina-tradicional-5/
END:VEVENT
BEGIN:VEVENT
DTSTART;TZID=Europe/Madrid:20260312T090000
DTEND;TZID=Europe/Madrid:20260312T160000
DTSTAMP:20260421T115440
CREATED:20260309T154416Z
LAST-MODIFIED:20260309T154416Z
UID:10000681-1773306000-1773331200@fundacionmas.es
SUMMARY:FORMACIÓN EQUIPO CRUZ ROJA ANDALUCÍA
DESCRIPTION:Organiza: Cruz Roja
URL:https://fundacionmas.es/evento/formacion-equipo-cruz-roja-andalucia/
END:VEVENT
BEGIN:VEVENT
DTSTART;TZID=Europe/Madrid:20260312T173000
DTEND;TZID=Europe/Madrid:20260312T183000
DTSTAMP:20260421T115440
CREATED:20260203T163256Z
LAST-MODIFIED:20260203T163256Z
UID:10000657-1773336600-1773340200@fundacionmas.es
SUMMARY:Becas de Inglés
DESCRIPTION:Organizado: Fundación MAS
URL:https://fundacionmas.es/evento/becas-de-ingles-69/
END:VEVENT
BEGIN:VEVENT
DTSTART;TZID=Europe/Madrid:20260312T184500
DTEND;TZID=Europe/Madrid:20260312T201500
DTSTAMP:20260421T115440
CREATED:20260202T132721Z
LAST-MODIFIED:20260202T132721Z
UID:10000621-1773341100-1773346500@fundacionmas.es
SUMMARY:Iniciación al Francés
DESCRIPTION:Organiza: Distrito de Casco Antiguo
URL:https://fundacionmas.es/evento/iniciacion-al-frances-31/
END:VEVENT
END:VCALENDAR