BEGIN:VCALENDAR
VERSION:2.0
PRODID:-//Fundación MAS - ECPv6.15.17.1//NONSGML v1.0//EN
CALSCALE:GREGORIAN
METHOD:PUBLISH
X-ORIGINAL-URL:https://fundacionmas.es
X-WR-CALDESC:Eventos para Fundación MAS
REFRESH-INTERVAL;VALUE=DURATION:PT1H
X-Robots-Tag:noindex
X-PUBLISHED-TTL:PT1H
BEGIN:VTIMEZONE
TZID:Europe/Madrid
BEGIN:DAYLIGHT
TZOFFSETFROM:+0100
TZOFFSETTO:+0200
TZNAME:CEST
DTSTART:20250330T010000
END:DAYLIGHT
BEGIN:STANDARD
TZOFFSETFROM:+0200
TZOFFSETTO:+0100
TZNAME:CET
DTSTART:20251026T010000
END:STANDARD
BEGIN:DAYLIGHT
TZOFFSETFROM:+0100
TZOFFSETTO:+0200
TZNAME:CEST
DTSTART:20260329T010000
END:DAYLIGHT
BEGIN:STANDARD
TZOFFSETFROM:+0200
TZOFFSETTO:+0100
TZNAME:CET
DTSTART:20261025T010000
END:STANDARD
BEGIN:DAYLIGHT
TZOFFSETFROM:+0100
TZOFFSETTO:+0200
TZNAME:CEST
DTSTART:20270328T010000
END:DAYLIGHT
BEGIN:STANDARD
TZOFFSETFROM:+0200
TZOFFSETTO:+0100
TZNAME:CET
DTSTART:20271031T010000
END:STANDARD
END:VTIMEZONE
BEGIN:VEVENT
DTSTART;TZID=Europe/Madrid:20260310T090000
DTEND;TZID=Europe/Madrid:20260310T120000
DTSTAMP:20260421T115529
CREATED:20260202T132025Z
LAST-MODIFIED:20260202T132025Z
UID:10000614-1773133200-1773144000@fundacionmas.es
SUMMARY:Cocina Tradicional II
DESCRIPTION:Organiza: Distrito de Casco Antiguo
URL:https://fundacionmas.es/evento/cocina-tradicional-ii-7/
END:VEVENT
BEGIN:VEVENT
DTSTART;TZID=Europe/Madrid:20260310T173000
DTEND;TZID=Europe/Madrid:20260310T183000
DTSTAMP:20260421T115529
CREATED:20260203T163158Z
LAST-MODIFIED:20260203T163158Z
UID:10000656-1773163800-1773167400@fundacionmas.es
SUMMARY:Becas de Inglés
DESCRIPTION:Organizado: Fundación MAS
URL:https://fundacionmas.es/evento/becas-de-ingles-68/
END:VEVENT
BEGIN:VEVENT
DTSTART;TZID=Europe/Madrid:20260310T184500
DTEND;TZID=Europe/Madrid:20260310T201500
DTSTAMP:20260421T115529
CREATED:20260202T132631Z
LAST-MODIFIED:20260202T132631Z
UID:10000620-1773168300-1773173700@fundacionmas.es
SUMMARY:Iniciación al Francés
DESCRIPTION:Organiza: Distrito de Casco Antiguo
URL:https://fundacionmas.es/evento/iniciacion-al-frances-30/
END:VEVENT
END:VCALENDAR