BEGIN:VCALENDAR
VERSION:2.0
PRODID:-//Fundación MAS - ECPv6.15.17.1//NONSGML v1.0//EN
CALSCALE:GREGORIAN
METHOD:PUBLISH
X-ORIGINAL-URL:https://fundacionmas.es
X-WR-CALDESC:Eventos para Fundación MAS
REFRESH-INTERVAL;VALUE=DURATION:PT1H
X-Robots-Tag:noindex
X-PUBLISHED-TTL:PT1H
BEGIN:VTIMEZONE
TZID:Europe/Madrid
BEGIN:DAYLIGHT
TZOFFSETFROM:+0100
TZOFFSETTO:+0200
TZNAME:CEST
DTSTART:20250330T010000
END:DAYLIGHT
BEGIN:STANDARD
TZOFFSETFROM:+0200
TZOFFSETTO:+0100
TZNAME:CET
DTSTART:20251026T010000
END:STANDARD
BEGIN:DAYLIGHT
TZOFFSETFROM:+0100
TZOFFSETTO:+0200
TZNAME:CEST
DTSTART:20260329T010000
END:DAYLIGHT
BEGIN:STANDARD
TZOFFSETFROM:+0200
TZOFFSETTO:+0100
TZNAME:CET
DTSTART:20261025T010000
END:STANDARD
BEGIN:DAYLIGHT
TZOFFSETFROM:+0100
TZOFFSETTO:+0200
TZNAME:CEST
DTSTART:20270328T010000
END:DAYLIGHT
BEGIN:STANDARD
TZOFFSETFROM:+0200
TZOFFSETTO:+0100
TZNAME:CET
DTSTART:20271031T010000
END:STANDARD
END:VTIMEZONE
BEGIN:VEVENT
DTSTART;TZID=Europe/Madrid:20260309T090000
DTEND;TZID=Europe/Madrid:20260309T120000
DTSTAMP:20260421T115551
CREATED:20260202T131656Z
LAST-MODIFIED:20260202T131656Z
UID:10000611-1773046800-1773057600@fundacionmas.es
SUMMARY:Cocina Tradicional I
DESCRIPTION:Organiza: Distrito de Casco Antiguo
URL:https://fundacionmas.es/evento/cocina-tradicional-i-14/
END:VEVENT
BEGIN:VEVENT
DTSTART;TZID=Europe/Madrid:20260309T170000
DTEND;TZID=Europe/Madrid:20260309T190000
DTSTAMP:20260421T115551
CREATED:20260202T133430Z
LAST-MODIFIED:20260202T133430Z
UID:10000628-1773075600-1773082800@fundacionmas.es
SUMMARY:Taller de la memoria
DESCRIPTION:Organiza: Distrito Casco Antiguo
URL:https://fundacionmas.es/evento/taller-de-la-memoria-23/
END:VEVENT
BEGIN:VEVENT
DTSTART;TZID=Europe/Madrid:20260309T173000
DTEND;TZID=Europe/Madrid:20260309T193000
DTSTAMP:20260421T115551
CREATED:20260309T122428Z
LAST-MODIFIED:20260309T130829Z
UID:10000680-1773077400-1773084600@fundacionmas.es
SUMMARY:Taller Cruz Roja
DESCRIPTION:Organizado: Cruz Roja Sevilla
URL:https://fundacionmas.es/evento/taller-cruz-roja/
END:VEVENT
BEGIN:VEVENT
DTSTART;TZID=Europe/Madrid:20260309T190000
DTEND;TZID=Europe/Madrid:20260309T200000
DTSTAMP:20260421T115551
CREATED:20260309T163334Z
LAST-MODIFIED:20260309T163334Z
UID:10000694-1773082800-1773086400@fundacionmas.es
SUMMARY:Cineforum
DESCRIPTION:Organiza: Asociación Artepuntas
URL:https://fundacionmas.es/evento/cineforum-3/
END:VEVENT
END:VCALENDAR