BEGIN:VCALENDAR
VERSION:2.0
PRODID:-//Fundación MAS - ECPv6.15.17.1//NONSGML v1.0//EN
CALSCALE:GREGORIAN
METHOD:PUBLISH
X-WR-CALNAME:Fundación MAS
X-ORIGINAL-URL:https://fundacionmas.es
X-WR-CALDESC:Eventos para Fundación MAS
REFRESH-INTERVAL;VALUE=DURATION:PT1H
X-Robots-Tag:noindex
X-PUBLISHED-TTL:PT1H
BEGIN:VTIMEZONE
TZID:Europe/Madrid
BEGIN:DAYLIGHT
TZOFFSETFROM:+0100
TZOFFSETTO:+0200
TZNAME:CEST
DTSTART:20250330T010000
END:DAYLIGHT
BEGIN:STANDARD
TZOFFSETFROM:+0200
TZOFFSETTO:+0100
TZNAME:CET
DTSTART:20251026T010000
END:STANDARD
BEGIN:DAYLIGHT
TZOFFSETFROM:+0100
TZOFFSETTO:+0200
TZNAME:CEST
DTSTART:20260329T010000
END:DAYLIGHT
BEGIN:STANDARD
TZOFFSETFROM:+0200
TZOFFSETTO:+0100
TZNAME:CET
DTSTART:20261025T010000
END:STANDARD
BEGIN:DAYLIGHT
TZOFFSETFROM:+0100
TZOFFSETTO:+0200
TZNAME:CEST
DTSTART:20270328T010000
END:DAYLIGHT
BEGIN:STANDARD
TZOFFSETFROM:+0200
TZOFFSETTO:+0100
TZNAME:CET
DTSTART:20271031T010000
END:STANDARD
END:VTIMEZONE
BEGIN:VEVENT
DTSTART;TZID=Europe/Madrid:20260305T173000
DTEND;TZID=Europe/Madrid:20260305T183000
DTSTAMP:20260421T115428
CREATED:20260203T162920Z
LAST-MODIFIED:20260203T162920Z
UID:10000655-1772731800-1772735400@fundacionmas.es
SUMMARY:Becas de Inglés
DESCRIPTION:Organizado: Fundación MAS
URL:https://fundacionmas.es/evento/becas-de-ingles-67/
END:VEVENT
BEGIN:VEVENT
DTSTART;TZID=Europe/Madrid:20260305T184500
DTEND;TZID=Europe/Madrid:20260305T201500
DTSTAMP:20260421T115428
CREATED:20260202T132553Z
LAST-MODIFIED:20260202T132553Z
UID:10000619-1772736300-1772741700@fundacionmas.es
SUMMARY:Iniciación al Francés
DESCRIPTION:Organiza: Distrito de Casco Antiguo
URL:https://fundacionmas.es/evento/iniciacion-al-frances-29/
END:VEVENT
END:VCALENDAR