BEGIN:VCALENDAR
VERSION:2.0
PRODID:-//Fundación MAS - ECPv6.15.17.1//NONSGML v1.0//EN
CALSCALE:GREGORIAN
METHOD:PUBLISH
X-ORIGINAL-URL:https://fundacionmas.es
X-WR-CALDESC:Eventos para Fundación MAS
REFRESH-INTERVAL;VALUE=DURATION:PT1H
X-Robots-Tag:noindex
X-PUBLISHED-TTL:PT1H
BEGIN:VTIMEZONE
TZID:Europe/Madrid
BEGIN:DAYLIGHT
TZOFFSETFROM:+0100
TZOFFSETTO:+0200
TZNAME:CEST
DTSTART:20250330T010000
END:DAYLIGHT
BEGIN:STANDARD
TZOFFSETFROM:+0200
TZOFFSETTO:+0100
TZNAME:CET
DTSTART:20251026T010000
END:STANDARD
BEGIN:DAYLIGHT
TZOFFSETFROM:+0100
TZOFFSETTO:+0200
TZNAME:CEST
DTSTART:20260329T010000
END:DAYLIGHT
BEGIN:STANDARD
TZOFFSETFROM:+0200
TZOFFSETTO:+0100
TZNAME:CET
DTSTART:20261025T010000
END:STANDARD
BEGIN:DAYLIGHT
TZOFFSETFROM:+0100
TZOFFSETTO:+0200
TZNAME:CEST
DTSTART:20270328T010000
END:DAYLIGHT
BEGIN:STANDARD
TZOFFSETFROM:+0200
TZOFFSETTO:+0100
TZNAME:CET
DTSTART:20271031T010000
END:STANDARD
END:VTIMEZONE
BEGIN:VEVENT
DTSTART;TZID=Europe/Madrid:20260218T170000
DTEND;TZID=Europe/Madrid:20260218T190000
DTSTAMP:20260421T144434
CREATED:20251209T144459Z
LAST-MODIFIED:20251209T144459Z
UID:10000568-1771434000-1771441200@fundacionmas.es
SUMMARY:Taller de la memoria
DESCRIPTION:Organiza: Distrito Casco Antiguo
URL:https://fundacionmas.es/evento/taller-de-la-memoria-18/
END:VEVENT
BEGIN:VEVENT
DTSTART;TZID=Europe/Madrid:20260218T170000
DTEND;TZID=Europe/Madrid:20260218T190000
DTSTAMP:20260421T144434
CREATED:20260203T174032Z
LAST-MODIFIED:20260203T174032Z
UID:10000672-1771434000-1771441200@fundacionmas.es
SUMMARY:Taller sobre La Chandeleur
DESCRIPTION:Organiza: Club Cultural de Francés La Pléiade de la Universidad de Sevilla
URL:https://fundacionmas.es/evento/taller-sobre-la-chandeleur/
END:VEVENT
END:VCALENDAR