BEGIN:VCALENDAR
VERSION:2.0
PRODID:-//Fundación MAS - ECPv6.15.17.1//NONSGML v1.0//EN
CALSCALE:GREGORIAN
METHOD:PUBLISH
X-ORIGINAL-URL:https://fundacionmas.es
X-WR-CALDESC:Eventos para Fundación MAS
REFRESH-INTERVAL;VALUE=DURATION:PT1H
X-Robots-Tag:noindex
X-PUBLISHED-TTL:PT1H
BEGIN:VTIMEZONE
TZID:Europe/Madrid
BEGIN:DAYLIGHT
TZOFFSETFROM:+0100
TZOFFSETTO:+0200
TZNAME:CEST
DTSTART:20250330T010000
END:DAYLIGHT
BEGIN:STANDARD
TZOFFSETFROM:+0200
TZOFFSETTO:+0100
TZNAME:CET
DTSTART:20251026T010000
END:STANDARD
BEGIN:DAYLIGHT
TZOFFSETFROM:+0100
TZOFFSETTO:+0200
TZNAME:CEST
DTSTART:20260329T010000
END:DAYLIGHT
BEGIN:STANDARD
TZOFFSETFROM:+0200
TZOFFSETTO:+0100
TZNAME:CET
DTSTART:20261025T010000
END:STANDARD
BEGIN:DAYLIGHT
TZOFFSETFROM:+0100
TZOFFSETTO:+0200
TZNAME:CEST
DTSTART:20270328T010000
END:DAYLIGHT
BEGIN:STANDARD
TZOFFSETFROM:+0200
TZOFFSETTO:+0100
TZNAME:CET
DTSTART:20271031T010000
END:STANDARD
END:VTIMEZONE
BEGIN:VEVENT
DTSTART;TZID=Europe/Madrid:20260121T080000
DTEND;TZID=Europe/Madrid:20260121T190000
DTSTAMP:20260421T155949
CREATED:20260113T153321Z
LAST-MODIFIED:20260113T153321Z
UID:10000589-1768982400-1769022000@fundacionmas.es
SUMMARY:75 Aniversario Colegio Oficial de Químicos del Sur
DESCRIPTION:Organiza: Colegio Oficial de Químicos del Sur Asociación de Químicos de Andalucía. Conferencia «El sol\, la luna y España: la alineación perfecta. El espectáculo irrepetible de tres eclipses solares que harán historia» por Don Fernando Ordoñez Monteaguado. \n 
URL:https://fundacionmas.es/evento/75-aniversario-colegio-oficial-de-quimicos-del-sur/
END:VEVENT
BEGIN:VEVENT
DTSTART;TZID=Europe/Madrid:20260121T170000
DTEND;TZID=Europe/Madrid:20260121T190000
DTSTAMP:20260421T155949
CREATED:20251209T143250Z
LAST-MODIFIED:20251209T143250Z
UID:10000559-1769014800-1769022000@fundacionmas.es
SUMMARY:Taller de la memoria
DESCRIPTION:Organiza: Distrito Casco Antiguo
URL:https://fundacionmas.es/evento/taller-de-la-memoria-10/
END:VEVENT
END:VCALENDAR