BEGIN:VCALENDAR
VERSION:2.0
PRODID:-//Fundación MAS - ECPv6.15.17.1//NONSGML v1.0//EN
CALSCALE:GREGORIAN
METHOD:PUBLISH
X-ORIGINAL-URL:https://fundacionmas.es
X-WR-CALDESC:Eventos para Fundación MAS
REFRESH-INTERVAL;VALUE=DURATION:PT1H
X-Robots-Tag:noindex
X-PUBLISHED-TTL:PT1H
BEGIN:VTIMEZONE
TZID:Europe/Madrid
BEGIN:DAYLIGHT
TZOFFSETFROM:+0100
TZOFFSETTO:+0200
TZNAME:CEST
DTSTART:20240331T010000
END:DAYLIGHT
BEGIN:STANDARD
TZOFFSETFROM:+0200
TZOFFSETTO:+0100
TZNAME:CET
DTSTART:20241027T010000
END:STANDARD
BEGIN:DAYLIGHT
TZOFFSETFROM:+0100
TZOFFSETTO:+0200
TZNAME:CEST
DTSTART:20250330T010000
END:DAYLIGHT
BEGIN:STANDARD
TZOFFSETFROM:+0200
TZOFFSETTO:+0100
TZNAME:CET
DTSTART:20251026T010000
END:STANDARD
BEGIN:DAYLIGHT
TZOFFSETFROM:+0100
TZOFFSETTO:+0200
TZNAME:CEST
DTSTART:20260329T010000
END:DAYLIGHT
BEGIN:STANDARD
TZOFFSETFROM:+0200
TZOFFSETTO:+0100
TZNAME:CET
DTSTART:20261025T010000
END:STANDARD
END:VTIMEZONE
BEGIN:VEVENT
DTSTART;TZID=Europe/Madrid:20251111T090000
DTEND;TZID=Europe/Madrid:20251111T120000
DTSTAMP:20260421T202612
CREATED:20251030T154020Z
LAST-MODIFIED:20251030T154157Z
UID:10000444-1762851600-1762862400@fundacionmas.es
SUMMARY:Cocina Tradicional II
DESCRIPTION:Organiza: Distrito de Casco Antiguo
URL:https://fundacionmas.es/evento/cocina-tradicional-ii/
END:VEVENT
BEGIN:VEVENT
DTSTART;TZID=Europe/Madrid:20251111T173000
DTEND;TZID=Europe/Madrid:20251111T183000
DTSTAMP:20260421T202612
CREATED:20250925T150348Z
LAST-MODIFIED:20250925T150348Z
UID:10000407-1762882200-1762885800@fundacionmas.es
SUMMARY:Becas de Inglés
DESCRIPTION:Organiza: Fundación MAS
URL:https://fundacionmas.es/evento/becas-de-ingles-42/
END:VEVENT
BEGIN:VEVENT
DTSTART;TZID=Europe/Madrid:20251111T184500
DTEND;TZID=Europe/Madrid:20251111T201500
DTSTAMP:20260421T202612
CREATED:20251104T181804Z
LAST-MODIFIED:20251104T181804Z
UID:10000471-1762886700-1762892100@fundacionmas.es
SUMMARY:Iniciación al Francés
DESCRIPTION:Organiza: Distrito de Casco Antiguo
URL:https://fundacionmas.es/evento/iniciacion-al-frances-3/
END:VEVENT
END:VCALENDAR