BEGIN:VCALENDAR
VERSION:2.0
PRODID:-//Fundación MAS - ECPv6.15.17.1//NONSGML v1.0//EN
CALSCALE:GREGORIAN
METHOD:PUBLISH
X-ORIGINAL-URL:https://fundacionmas.es
X-WR-CALDESC:Eventos para Fundación MAS
REFRESH-INTERVAL;VALUE=DURATION:PT1H
X-Robots-Tag:noindex
X-PUBLISHED-TTL:PT1H
BEGIN:VTIMEZONE
TZID:Europe/Madrid
BEGIN:DAYLIGHT
TZOFFSETFROM:+0100
TZOFFSETTO:+0200
TZNAME:CEST
DTSTART:20240331T010000
END:DAYLIGHT
BEGIN:STANDARD
TZOFFSETFROM:+0200
TZOFFSETTO:+0100
TZNAME:CET
DTSTART:20241027T010000
END:STANDARD
BEGIN:DAYLIGHT
TZOFFSETFROM:+0100
TZOFFSETTO:+0200
TZNAME:CEST
DTSTART:20250330T010000
END:DAYLIGHT
BEGIN:STANDARD
TZOFFSETFROM:+0200
TZOFFSETTO:+0100
TZNAME:CET
DTSTART:20251026T010000
END:STANDARD
BEGIN:DAYLIGHT
TZOFFSETFROM:+0100
TZOFFSETTO:+0200
TZNAME:CEST
DTSTART:20260329T010000
END:DAYLIGHT
BEGIN:STANDARD
TZOFFSETFROM:+0200
TZOFFSETTO:+0100
TZNAME:CET
DTSTART:20261025T010000
END:STANDARD
END:VTIMEZONE
BEGIN:VEVENT
DTSTART;TZID=Europe/Madrid:20251104T090000
DTEND;TZID=Europe/Madrid:20251104T120000
DTSTAMP:20260421T202818
CREATED:20251030T154144Z
LAST-MODIFIED:20251030T160612Z
UID:10000445-1762246800-1762257600@fundacionmas.es
SUMMARY:Cocina Tradicional II
DESCRIPTION:Organiza: Distrito de Casco Antiguo
URL:https://fundacionmas.es/evento/cocina-tradicional-ii-2/
END:VEVENT
BEGIN:VEVENT
DTSTART;TZID=Europe/Madrid:20251104T173000
DTEND;TZID=Europe/Madrid:20251104T183000
DTSTAMP:20260421T202818
CREATED:20250925T150208Z
LAST-MODIFIED:20250925T150208Z
UID:10000405-1762277400-1762281000@fundacionmas.es
SUMMARY:Becas de Inglés
DESCRIPTION:Organiza. Fundación MAS
URL:https://fundacionmas.es/evento/becas-de-ingles-40/
END:VEVENT
BEGIN:VEVENT
DTSTART;TZID=Europe/Madrid:20251104T184500
DTEND;TZID=Europe/Madrid:20251104T201500
DTSTAMP:20260421T202818
CREATED:20251104T175807Z
LAST-MODIFIED:20251104T175807Z
UID:10000469-1762281900-1762287300@fundacionmas.es
SUMMARY:Iniciación al Francés
DESCRIPTION:Organiza: Distrito de Casco Antiguo
URL:https://fundacionmas.es/evento/iniciacion-al-frances/
END:VEVENT
END:VCALENDAR