BEGIN:VCALENDAR
VERSION:2.0
PRODID:-//Fundación MAS - ECPv6.15.17.1//NONSGML v1.0//EN
CALSCALE:GREGORIAN
METHOD:PUBLISH
X-ORIGINAL-URL:https://fundacionmas.es
X-WR-CALDESC:Eventos para Fundación MAS
REFRESH-INTERVAL;VALUE=DURATION:PT1H
X-Robots-Tag:noindex
X-PUBLISHED-TTL:PT1H
BEGIN:VTIMEZONE
TZID:Europe/Madrid
BEGIN:DAYLIGHT
TZOFFSETFROM:+0100
TZOFFSETTO:+0200
TZNAME:CEST
DTSTART:20240331T010000
END:DAYLIGHT
BEGIN:STANDARD
TZOFFSETFROM:+0200
TZOFFSETTO:+0100
TZNAME:CET
DTSTART:20241027T010000
END:STANDARD
BEGIN:DAYLIGHT
TZOFFSETFROM:+0100
TZOFFSETTO:+0200
TZNAME:CEST
DTSTART:20250330T010000
END:DAYLIGHT
BEGIN:STANDARD
TZOFFSETFROM:+0200
TZOFFSETTO:+0100
TZNAME:CET
DTSTART:20251026T010000
END:STANDARD
BEGIN:DAYLIGHT
TZOFFSETFROM:+0100
TZOFFSETTO:+0200
TZNAME:CEST
DTSTART:20260329T010000
END:DAYLIGHT
BEGIN:STANDARD
TZOFFSETFROM:+0200
TZOFFSETTO:+0100
TZNAME:CET
DTSTART:20261025T010000
END:STANDARD
END:VTIMEZONE
BEGIN:VEVENT
DTSTART;TZID=Europe/Madrid:20251103T090000
DTEND;TZID=Europe/Madrid:20251103T120000
DTSTAMP:20260421T202614
CREATED:20251030T160732Z
LAST-MODIFIED:20251030T160732Z
UID:10000463-1762160400-1762171200@fundacionmas.es
SUMMARY:Cocina Tradicional I
DESCRIPTION:Organiza: Distrito de Casco Antiguo
URL:https://fundacionmas.es/evento/cocina-tradicional-i-5/
END:VEVENT
BEGIN:VEVENT
DTSTART;TZID=Europe/Madrid:20251103T183000
DTEND;TZID=Europe/Madrid:20251103T203000
DTSTAMP:20260421T202614
CREATED:20251024T164421Z
LAST-MODIFIED:20251024T164421Z
UID:10000431-1762194600-1762201800@fundacionmas.es
SUMMARY:Jornadas Gastropass 360º
DESCRIPTION:Organiza: Academia Andaluza de Gastronomía 
URL:https://fundacionmas.es/evento/jornadas-gastropass-360o-2/
END:VEVENT
END:VCALENDAR