BEGIN:VCALENDAR
VERSION:2.0
PRODID:-//Fundación MAS - ECPv6.15.17.1//NONSGML v1.0//EN
CALSCALE:GREGORIAN
METHOD:PUBLISH
X-WR-CALNAME:Fundación MAS
X-ORIGINAL-URL:https://fundacionmas.es
X-WR-CALDESC:Eventos para Fundación MAS
REFRESH-INTERVAL;VALUE=DURATION:PT1H
X-Robots-Tag:noindex
X-PUBLISHED-TTL:PT1H
BEGIN:VTIMEZONE
TZID:Europe/Madrid
BEGIN:DAYLIGHT
TZOFFSETFROM:+0100
TZOFFSETTO:+0200
TZNAME:CEST
DTSTART:20240331T010000
END:DAYLIGHT
BEGIN:STANDARD
TZOFFSETFROM:+0200
TZOFFSETTO:+0100
TZNAME:CET
DTSTART:20241027T010000
END:STANDARD
BEGIN:DAYLIGHT
TZOFFSETFROM:+0100
TZOFFSETTO:+0200
TZNAME:CEST
DTSTART:20250330T010000
END:DAYLIGHT
BEGIN:STANDARD
TZOFFSETFROM:+0200
TZOFFSETTO:+0100
TZNAME:CET
DTSTART:20251026T010000
END:STANDARD
BEGIN:DAYLIGHT
TZOFFSETFROM:+0100
TZOFFSETTO:+0200
TZNAME:CEST
DTSTART:20260329T010000
END:DAYLIGHT
BEGIN:STANDARD
TZOFFSETFROM:+0200
TZOFFSETTO:+0100
TZNAME:CET
DTSTART:20261025T010000
END:STANDARD
END:VTIMEZONE
BEGIN:VEVENT
DTSTART;TZID=Europe/Madrid:20250924T173000
DTEND;TZID=Europe/Madrid:20250924T193000
DTSTAMP:20260422T010754
CREATED:20250911T132820Z
LAST-MODIFIED:20250911T132820Z
UID:10000389-1758735000-1758742200@fundacionmas.es
SUMMARY:Clases de español. Refugiados ucranianos
DESCRIPTION:Organiza: Esteban Guzmán Sánchez.
URL:https://fundacionmas.es/evento/clases-de-espanol-refugiados-ucranianos-4/
END:VEVENT
BEGIN:VEVENT
DTSTART;TZID=Europe/Madrid:20250924T190000
DTEND;TZID=Europe/Madrid:20250924T203000
DTSTAMP:20260422T010754
CREATED:20250903T151301Z
LAST-MODIFIED:20250903T151301Z
UID:10000385-1758740400-1758745800@fundacionmas.es
SUMMARY:Asamblea AAVV Casco Histórico San Lorenzo
DESCRIPTION:Organiza: AAVV Casco Histórico San Lorenzo
URL:https://fundacionmas.es/evento/asamblea-aavv-casco-historico-san-lorenzo/
END:VEVENT
END:VCALENDAR