BEGIN:VCALENDAR
VERSION:2.0
PRODID:-//Fundación MAS - ECPv6.15.17.1//NONSGML v1.0//EN
CALSCALE:GREGORIAN
METHOD:PUBLISH
X-ORIGINAL-URL:https://fundacionmas.es
X-WR-CALDESC:Eventos para Fundación MAS
REFRESH-INTERVAL;VALUE=DURATION:PT1H
X-Robots-Tag:noindex
X-PUBLISHED-TTL:PT1H
BEGIN:VTIMEZONE
TZID:Europe/Madrid
BEGIN:DAYLIGHT
TZOFFSETFROM:+0100
TZOFFSETTO:+0200
TZNAME:CEST
DTSTART:20240331T010000
END:DAYLIGHT
BEGIN:STANDARD
TZOFFSETFROM:+0200
TZOFFSETTO:+0100
TZNAME:CET
DTSTART:20241027T010000
END:STANDARD
BEGIN:DAYLIGHT
TZOFFSETFROM:+0100
TZOFFSETTO:+0200
TZNAME:CEST
DTSTART:20250330T010000
END:DAYLIGHT
BEGIN:STANDARD
TZOFFSETFROM:+0200
TZOFFSETTO:+0100
TZNAME:CET
DTSTART:20251026T010000
END:STANDARD
BEGIN:DAYLIGHT
TZOFFSETFROM:+0100
TZOFFSETTO:+0200
TZNAME:CEST
DTSTART:20260329T010000
END:DAYLIGHT
BEGIN:STANDARD
TZOFFSETFROM:+0200
TZOFFSETTO:+0100
TZNAME:CET
DTSTART:20261025T010000
END:STANDARD
END:VTIMEZONE
BEGIN:VEVENT
DTSTART;TZID=Europe/Madrid:20250611T133000
DTEND;TZID=Europe/Madrid:20250611T143000
DTSTAMP:20260422T073031
CREATED:20250603T141414Z
LAST-MODIFIED:20250603T142339Z
UID:10000343-1749648600-1749652200@fundacionmas.es
SUMMARY:Reunión Comisión de Limpieza Casco Antiguo
DESCRIPTION:Organiza: AVV Casa de la Moneda y entorno
URL:https://fundacionmas.es/evento/reunion-comision-de-limpieza-casco-antiguo/
END:VEVENT
BEGIN:VEVENT
DTSTART;TZID=Europe/Madrid:20250611T173000
DTEND;TZID=Europe/Madrid:20250611T200000
DTSTAMP:20260422T073031
CREATED:20250603T123119Z
LAST-MODIFIED:20250603T123119Z
UID:10000335-1749663000-1749672000@fundacionmas.es
SUMMARY:Debate "Ser mujer\, migrante e iberoamericana: miradas\, propuestas y acciones hacia la igualdad y la inclusión"
DESCRIPTION:
URL:https://fundacionmas.es/evento/debate-ser-mujer-migrante-e-iberoamericana-miradas-propuestas-y-acciones-hacia-la-igualdad-y-la-inclusion/
END:VEVENT
END:VCALENDAR