BEGIN:VCALENDAR
VERSION:2.0
PRODID:-//Fundación MAS - ECPv6.15.17.1//NONSGML v1.0//EN
CALSCALE:GREGORIAN
METHOD:PUBLISH
X-ORIGINAL-URL:https://fundacionmas.es
X-WR-CALDESC:Eventos para Fundación MAS
REFRESH-INTERVAL;VALUE=DURATION:PT1H
X-Robots-Tag:noindex
X-PUBLISHED-TTL:PT1H
BEGIN:VTIMEZONE
TZID:Europe/Madrid
BEGIN:DAYLIGHT
TZOFFSETFROM:+0100
TZOFFSETTO:+0200
TZNAME:CEST
DTSTART:20240331T010000
END:DAYLIGHT
BEGIN:STANDARD
TZOFFSETFROM:+0200
TZOFFSETTO:+0100
TZNAME:CET
DTSTART:20241027T010000
END:STANDARD
BEGIN:DAYLIGHT
TZOFFSETFROM:+0100
TZOFFSETTO:+0200
TZNAME:CEST
DTSTART:20250330T010000
END:DAYLIGHT
BEGIN:STANDARD
TZOFFSETFROM:+0200
TZOFFSETTO:+0100
TZNAME:CET
DTSTART:20251026T010000
END:STANDARD
BEGIN:DAYLIGHT
TZOFFSETFROM:+0100
TZOFFSETTO:+0200
TZNAME:CEST
DTSTART:20260329T010000
END:DAYLIGHT
BEGIN:STANDARD
TZOFFSETFROM:+0200
TZOFFSETTO:+0100
TZNAME:CET
DTSTART:20261025T010000
END:STANDARD
END:VTIMEZONE
BEGIN:VEVENT
DTSTART;TZID=Europe/Madrid:20250603T170000
DTEND;TZID=Europe/Madrid:20250603T180000
DTSTAMP:20260422T073032
CREATED:20250604T140646Z
LAST-MODIFIED:20250603T140902Z
UID:10000340-1748970000-1748973600@fundacionmas.es
SUMMARY:Clases de español para refugiados ucranianos
DESCRIPTION:Organiza: Esteban Guzmán
URL:https://fundacionmas.es/evento/clases-de-espanol-para-refugiados-ucranianos-4/
END:VEVENT
BEGIN:VEVENT
DTSTART;TZID=Europe/Madrid:20250603T180000
DTEND;TZID=Europe/Madrid:20250603T203000
DTSTAMP:20260422T073032
CREATED:20250603T140436Z
LAST-MODIFIED:20250603T140436Z
UID:10000339-1748973600-1748982600@fundacionmas.es
SUMMARY:US + Consulado de Portugal
DESCRIPTION:Organiza: Universidad de Sevilla
URL:https://fundacionmas.es/evento/us-consulado-de-portugal/
END:VEVENT
BEGIN:VEVENT
DTSTART;TZID=Europe/Madrid:20250603T190000
DTEND;TZID=Europe/Madrid:20250603T210000
DTSTAMP:20260422T073032
CREATED:20250603T123734Z
LAST-MODIFIED:20250603T135357Z
UID:10000336-1748977200-1748984400@fundacionmas.es
SUMMARY:Clausura XIV edición Becas de Inglés Fundación MAS
DESCRIPTION:Organiza: Fundación MAS
URL:https://fundacionmas.es/evento/clausura-xiv-edicion-becas-de-ingles-fundacion-mas/
END:VEVENT
END:VCALENDAR