BEGIN:VCALENDAR
VERSION:2.0
PRODID:-//Fundación MAS - ECPv6.15.17.1//NONSGML v1.0//EN
CALSCALE:GREGORIAN
METHOD:PUBLISH
X-WR-CALNAME:Fundación MAS
X-ORIGINAL-URL:https://fundacionmas.es
X-WR-CALDESC:Eventos para Fundación MAS
REFRESH-INTERVAL;VALUE=DURATION:PT1H
X-Robots-Tag:noindex
X-PUBLISHED-TTL:PT1H
BEGIN:VTIMEZONE
TZID:Europe/Madrid
BEGIN:DAYLIGHT
TZOFFSETFROM:+0100
TZOFFSETTO:+0200
TZNAME:CEST
DTSTART:20240331T010000
END:DAYLIGHT
BEGIN:STANDARD
TZOFFSETFROM:+0200
TZOFFSETTO:+0100
TZNAME:CET
DTSTART:20241027T010000
END:STANDARD
BEGIN:DAYLIGHT
TZOFFSETFROM:+0100
TZOFFSETTO:+0200
TZNAME:CEST
DTSTART:20250330T010000
END:DAYLIGHT
BEGIN:STANDARD
TZOFFSETFROM:+0200
TZOFFSETTO:+0100
TZNAME:CET
DTSTART:20251026T010000
END:STANDARD
BEGIN:DAYLIGHT
TZOFFSETFROM:+0100
TZOFFSETTO:+0200
TZNAME:CEST
DTSTART:20260329T010000
END:DAYLIGHT
BEGIN:STANDARD
TZOFFSETFROM:+0200
TZOFFSETTO:+0100
TZNAME:CET
DTSTART:20261025T010000
END:STANDARD
END:VTIMEZONE
BEGIN:VEVENT
DTSTART;TZID=Europe/Madrid:20250528T170000
DTEND;TZID=Europe/Madrid:20250528T190000
DTSTAMP:20260422T091352
CREATED:20250423T110834Z
LAST-MODIFIED:20250423T110834Z
UID:10000310-1748451600-1748458800@fundacionmas.es
SUMMARY:Clases de Español para Refugiados Ucrarianos
DESCRIPTION:Organiza: Esteban Guzmán Sánchez
URL:https://fundacionmas.es/evento/clases-de-espanol-para-refugiados-ucrarianos-3/
END:VEVENT
BEGIN:VEVENT
DTSTART;TZID=Europe/Madrid:20250528T180000
DTEND;TZID=Europe/Madrid:20250528T200000
DTSTAMP:20260422T091352
CREATED:20250515T090955Z
LAST-MODIFIED:20250515T090955Z
UID:10000333-1748455200-1748462400@fundacionmas.es
SUMMARY:Formación Metro de Sevilla
DESCRIPTION:Organiza: Sevilla Quiere Metro.
URL:https://fundacionmas.es/evento/formacion-metro-de-sevilla/
END:VEVENT
END:VCALENDAR