BEGIN:VCALENDAR
VERSION:2.0
PRODID:-//Fundación MAS - ECPv6.15.17.1//NONSGML v1.0//EN
CALSCALE:GREGORIAN
METHOD:PUBLISH
X-ORIGINAL-URL:https://fundacionmas.es
X-WR-CALDESC:Eventos para Fundación MAS
REFRESH-INTERVAL;VALUE=DURATION:PT1H
X-Robots-Tag:noindex
X-PUBLISHED-TTL:PT1H
BEGIN:VTIMEZONE
TZID:Europe/Madrid
BEGIN:DAYLIGHT
TZOFFSETFROM:+0100
TZOFFSETTO:+0200
TZNAME:CEST
DTSTART:20240331T010000
END:DAYLIGHT
BEGIN:STANDARD
TZOFFSETFROM:+0200
TZOFFSETTO:+0100
TZNAME:CET
DTSTART:20241027T010000
END:STANDARD
BEGIN:DAYLIGHT
TZOFFSETFROM:+0100
TZOFFSETTO:+0200
TZNAME:CEST
DTSTART:20250330T010000
END:DAYLIGHT
BEGIN:STANDARD
TZOFFSETFROM:+0200
TZOFFSETTO:+0100
TZNAME:CET
DTSTART:20251026T010000
END:STANDARD
BEGIN:DAYLIGHT
TZOFFSETFROM:+0100
TZOFFSETTO:+0200
TZNAME:CEST
DTSTART:20260329T010000
END:DAYLIGHT
BEGIN:STANDARD
TZOFFSETFROM:+0200
TZOFFSETTO:+0100
TZNAME:CET
DTSTART:20261025T010000
END:STANDARD
END:VTIMEZONE
BEGIN:VEVENT
DTSTART;TZID=Europe/Madrid:20250515T090000
DTEND;TZID=Europe/Madrid:20250515T120000
DTSTAMP:20260422T104753
CREATED:20250410T135328Z
LAST-MODIFIED:20250410T135328Z
UID:10000296-1747299600-1747310400@fundacionmas.es
SUMMARY:Taller Cocina Internacional
DESCRIPTION:Organiza: Distrito del Casco Antiguo.
URL:https://fundacionmas.es/evento/taller-cocina-internacional-4/
END:VEVENT
BEGIN:VEVENT
DTSTART;TZID=Europe/Madrid:20250515T090000
DTEND;TZID=Europe/Madrid:20250515T143000
DTSTAMP:20260422T104753
CREATED:20250428T130523Z
LAST-MODIFIED:20250428T130523Z
UID:10000311-1747299600-1747319400@fundacionmas.es
SUMMARY:Andalucía Acoge: II Edición Desayunos con Empresas
DESCRIPTION:Organiza: Federación Andalucía Acoge
URL:https://fundacionmas.es/evento/andalucia-acoge-ii-edicion-desayunos-con-empresas/
END:VEVENT
BEGIN:VEVENT
DTSTART;TZID=Europe/Madrid:20250515T173000
DTEND;TZID=Europe/Madrid:20250515T183000
DTSTAMP:20260422T104753
CREATED:20250410T093245Z
LAST-MODIFIED:20250410T093245Z
UID:10000285-1747330200-1747333800@fundacionmas.es
SUMMARY:Becas de Inglés
DESCRIPTION:Organiza: Fundación MAS.
URL:https://fundacionmas.es/evento/becas-de-ingles-27/
END:VEVENT
BEGIN:VEVENT
DTSTART;TZID=Europe/Madrid:20250515T190000
DTEND;TZID=Europe/Madrid:20250515T203000
DTSTAMP:20260422T104753
CREATED:20250428T131059Z
LAST-MODIFIED:20250428T131420Z
UID:10000312-1747335600-1747341000@fundacionmas.es
SUMMARY:IX Sesión Ciclo Nueva Ingeniería Sevillana
DESCRIPTION:Organiza: Iniciativa Sevilla Abierta \nEvento público
URL:https://fundacionmas.es/evento/ix-sesion-ciclo-nueva-ingenieria-sevillana/
END:VEVENT
END:VCALENDAR