BEGIN:VCALENDAR
VERSION:2.0
PRODID:-//Fundación MAS - ECPv6.15.17.1//NONSGML v1.0//EN
CALSCALE:GREGORIAN
METHOD:PUBLISH
X-ORIGINAL-URL:https://fundacionmas.es
X-WR-CALDESC:Eventos para Fundación MAS
REFRESH-INTERVAL;VALUE=DURATION:PT1H
X-Robots-Tag:noindex
X-PUBLISHED-TTL:PT1H
BEGIN:VTIMEZONE
TZID:Europe/Madrid
BEGIN:DAYLIGHT
TZOFFSETFROM:+0100
TZOFFSETTO:+0200
TZNAME:CEST
DTSTART:20240331T010000
END:DAYLIGHT
BEGIN:STANDARD
TZOFFSETFROM:+0200
TZOFFSETTO:+0100
TZNAME:CET
DTSTART:20241027T010000
END:STANDARD
BEGIN:DAYLIGHT
TZOFFSETFROM:+0100
TZOFFSETTO:+0200
TZNAME:CEST
DTSTART:20250330T010000
END:DAYLIGHT
BEGIN:STANDARD
TZOFFSETFROM:+0200
TZOFFSETTO:+0100
TZNAME:CET
DTSTART:20251026T010000
END:STANDARD
BEGIN:DAYLIGHT
TZOFFSETFROM:+0100
TZOFFSETTO:+0200
TZNAME:CEST
DTSTART:20260329T010000
END:DAYLIGHT
BEGIN:STANDARD
TZOFFSETFROM:+0200
TZOFFSETTO:+0100
TZNAME:CET
DTSTART:20261025T010000
END:STANDARD
END:VTIMEZONE
BEGIN:VEVENT
DTSTART;TZID=Europe/Madrid:20250410T090000
DTEND;TZID=Europe/Madrid:20250410T120000
DTSTAMP:20260422T104752
CREATED:20250326T102026Z
LAST-MODIFIED:20250326T102026Z
UID:10000252-1744275600-1744286400@fundacionmas.es
SUMMARY:Taller Cocina Internacional
DESCRIPTION:Organiza: Distrito del Casco Antiguo. Inscritos Ayuntamiento de Sevilla
URL:https://fundacionmas.es/evento/taller-cocina-internacional/
END:VEVENT
BEGIN:VEVENT
DTSTART;TZID=Europe/Madrid:20250410T090000
DTEND;TZID=Europe/Madrid:20250410T140000
DTSTAMP:20260422T104752
CREATED:20250326T093447Z
LAST-MODIFIED:20250326T093447Z
UID:10000247-1744275600-1744293600@fundacionmas.es
SUMMARY:V Encuentro Internacional de Compositores
DESCRIPTION:Conservatorio Superior Música Manuel Castillo
URL:https://fundacionmas.es/evento/v-encuentro-internacional-de-compositores-4/
END:VEVENT
BEGIN:VEVENT
DTSTART;TZID=Europe/Madrid:20250410T173000
DTEND;TZID=Europe/Madrid:20250410T183000
DTSTAMP:20260422T104752
CREATED:20250326T102758Z
LAST-MODIFIED:20250326T102758Z
UID:10000253-1744306200-1744309800@fundacionmas.es
SUMMARY:Becas de Inglés
DESCRIPTION:Organiza: Fundación MAS Inscripciones cerradas
URL:https://fundacionmas.es/evento/becas-de-ingles-20/
END:VEVENT
END:VCALENDAR