BEGIN:VCALENDAR
VERSION:2.0
PRODID:-//Fundación MAS - ECPv6.15.17.1//NONSGML v1.0//EN
CALSCALE:GREGORIAN
METHOD:PUBLISH
X-ORIGINAL-URL:https://fundacionmas.es
X-WR-CALDESC:Eventos para Fundación MAS
REFRESH-INTERVAL;VALUE=DURATION:PT1H
X-Robots-Tag:noindex
X-PUBLISHED-TTL:PT1H
BEGIN:VTIMEZONE
TZID:Europe/Madrid
BEGIN:DAYLIGHT
TZOFFSETFROM:+0100
TZOFFSETTO:+0200
TZNAME:CEST
DTSTART:20240331T010000
END:DAYLIGHT
BEGIN:STANDARD
TZOFFSETFROM:+0200
TZOFFSETTO:+0100
TZNAME:CET
DTSTART:20241027T010000
END:STANDARD
BEGIN:DAYLIGHT
TZOFFSETFROM:+0100
TZOFFSETTO:+0200
TZNAME:CEST
DTSTART:20250330T010000
END:DAYLIGHT
BEGIN:STANDARD
TZOFFSETFROM:+0200
TZOFFSETTO:+0100
TZNAME:CET
DTSTART:20251026T010000
END:STANDARD
BEGIN:DAYLIGHT
TZOFFSETFROM:+0100
TZOFFSETTO:+0200
TZNAME:CEST
DTSTART:20260329T010000
END:DAYLIGHT
BEGIN:STANDARD
TZOFFSETFROM:+0200
TZOFFSETTO:+0100
TZNAME:CET
DTSTART:20261025T010000
END:STANDARD
END:VTIMEZONE
BEGIN:VEVENT
DTSTART;TZID=Europe/Madrid:20250409T090000
DTEND;TZID=Europe/Madrid:20250409T140000
DTSTAMP:20260422T104831
CREATED:20250326T093407Z
LAST-MODIFIED:20250326T093407Z
UID:10000246-1744189200-1744207200@fundacionmas.es
SUMMARY:V Encuentro Internacional de Compositores
DESCRIPTION:Conservatorio Superior Música Manuel Castillo
URL:https://fundacionmas.es/evento/v-encuentro-internacional-de-compositores-3/
END:VEVENT
BEGIN:VEVENT
DTSTART;TZID=Europe/Madrid:20250409T170000
DTEND;TZID=Europe/Madrid:20250409T190000
DTSTAMP:20260422T104831
CREATED:20250326T163757Z
LAST-MODIFIED:20250326T163830Z
UID:10000251-1744218000-1744225200@fundacionmas.es
SUMMARY:Clases de Español para Refugiados Ucranianos
DESCRIPTION:Organizado por Esteban Guzmán Sánchez
URL:https://fundacionmas.es/evento/clases-de-espanol-para-refugiados-ucranianos-2/
END:VEVENT
END:VCALENDAR