BEGIN:VCALENDAR
VERSION:2.0
PRODID:-//Fundación MAS - ECPv6.15.17.1//NONSGML v1.0//EN
CALSCALE:GREGORIAN
METHOD:PUBLISH
X-WR-CALNAME:Fundación MAS
X-ORIGINAL-URL:https://fundacionmas.es
X-WR-CALDESC:Eventos para Fundación MAS
REFRESH-INTERVAL;VALUE=DURATION:PT1H
X-Robots-Tag:noindex
X-PUBLISHED-TTL:PT1H
BEGIN:VTIMEZONE
TZID:Europe/Madrid
BEGIN:DAYLIGHT
TZOFFSETFROM:+0100
TZOFFSETTO:+0200
TZNAME:CEST
DTSTART:20240331T010000
END:DAYLIGHT
BEGIN:STANDARD
TZOFFSETFROM:+0200
TZOFFSETTO:+0100
TZNAME:CET
DTSTART:20241027T010000
END:STANDARD
BEGIN:DAYLIGHT
TZOFFSETFROM:+0100
TZOFFSETTO:+0200
TZNAME:CEST
DTSTART:20250330T010000
END:DAYLIGHT
BEGIN:STANDARD
TZOFFSETFROM:+0200
TZOFFSETTO:+0100
TZNAME:CET
DTSTART:20251026T010000
END:STANDARD
BEGIN:DAYLIGHT
TZOFFSETFROM:+0100
TZOFFSETTO:+0200
TZNAME:CEST
DTSTART:20260329T010000
END:DAYLIGHT
BEGIN:STANDARD
TZOFFSETFROM:+0200
TZOFFSETTO:+0100
TZNAME:CET
DTSTART:20261025T010000
END:STANDARD
END:VTIMEZONE
BEGIN:VEVENT
DTSTART;TZID=Europe/Madrid:20250327T090000
DTEND;TZID=Europe/Madrid:20250327T120000
DTSTAMP:20260422T122315
CREATED:20250226T174233Z
LAST-MODIFIED:20250226T174233Z
UID:10000223-1743066000-1743076800@fundacionmas.es
SUMMARY:Taller de Cocina Internacional
DESCRIPTION:Organiza: Distrito del Casco Antiguo. Inscritos Ayuntamiento de Sevilla
URL:https://fundacionmas.es/evento/taller-de-cocina-internacional-11/
END:VEVENT
BEGIN:VEVENT
DTSTART;TZID=Europe/Madrid:20250327T173000
DTEND;TZID=Europe/Madrid:20250327T183000
DTSTAMP:20260422T122315
CREATED:20250226T171920Z
LAST-MODIFIED:20250226T171920Z
UID:10000206-1743096600-1743100200@fundacionmas.es
SUMMARY:Becas de Inglés
DESCRIPTION:Organiza: Fundación MAS Inscripciones cerradas
URL:https://fundacionmas.es/evento/becas-de-ingles-16/
END:VEVENT
END:VCALENDAR