BEGIN:VCALENDAR
VERSION:2.0
PRODID:-//Fundación MAS - ECPv6.15.17.1//NONSGML v1.0//EN
CALSCALE:GREGORIAN
METHOD:PUBLISH
X-WR-CALNAME:Fundación MAS
X-ORIGINAL-URL:https://fundacionmas.es
X-WR-CALDESC:Eventos para Fundación MAS
REFRESH-INTERVAL;VALUE=DURATION:PT1H
X-Robots-Tag:noindex
X-PUBLISHED-TTL:PT1H
BEGIN:VTIMEZONE
TZID:Europe/Madrid
BEGIN:DAYLIGHT
TZOFFSETFROM:+0100
TZOFFSETTO:+0200
TZNAME:CEST
DTSTART:20240331T010000
END:DAYLIGHT
BEGIN:STANDARD
TZOFFSETFROM:+0200
TZOFFSETTO:+0100
TZNAME:CET
DTSTART:20241027T010000
END:STANDARD
BEGIN:DAYLIGHT
TZOFFSETFROM:+0100
TZOFFSETTO:+0200
TZNAME:CEST
DTSTART:20250330T010000
END:DAYLIGHT
BEGIN:STANDARD
TZOFFSETFROM:+0200
TZOFFSETTO:+0100
TZNAME:CET
DTSTART:20251026T010000
END:STANDARD
BEGIN:DAYLIGHT
TZOFFSETFROM:+0100
TZOFFSETTO:+0200
TZNAME:CEST
DTSTART:20260329T010000
END:DAYLIGHT
BEGIN:STANDARD
TZOFFSETFROM:+0200
TZOFFSETTO:+0100
TZNAME:CET
DTSTART:20261025T010000
END:STANDARD
END:VTIMEZONE
BEGIN:VEVENT
DTSTART;TZID=Europe/Madrid:20250325T090000
DTEND;TZID=Europe/Madrid:20250325T120000
DTSTAMP:20260422T135616
CREATED:20250226T173518Z
LAST-MODIFIED:20250226T173518Z
UID:10000215-1742893200-1742904000@fundacionmas.es
SUMMARY:Taller de Cocina Tradicional II
DESCRIPTION:Organiza: Distrito del Casco Antiguo. Inscritos Ayuntamiento de Sevilla
URL:https://fundacionmas.es/evento/taller-de-cocina-tradicional-ii-11/
END:VEVENT
BEGIN:VEVENT
DTSTART;TZID=Europe/Madrid:20250325T090000
DTEND;TZID=Europe/Madrid:20250325T140000
DTSTAMP:20260422T135616
CREATED:20250325T165646Z
LAST-MODIFIED:20250325T165646Z
UID:10000235-1742893200-1742911200@fundacionmas.es
SUMMARY:Final Autonómica de Clipmetrajes
DESCRIPTION:Organiza Manos Unidas Sevilla
URL:https://fundacionmas.es/evento/final-autonomica-de-clipmetrajes/
END:VEVENT
BEGIN:VEVENT
DTSTART;TZID=Europe/Madrid:20250325T170000
DTEND;TZID=Europe/Madrid:20250325T190000
DTSTAMP:20260422T135616
CREATED:20250325T163945Z
LAST-MODIFIED:20250325T163945Z
UID:10000234-1742922000-1742929200@fundacionmas.es
SUMMARY:Jornada Ática
DESCRIPTION:Organiza: Ática
URL:https://fundacionmas.es/evento/jornada-atica-2/
END:VEVENT
BEGIN:VEVENT
DTSTART;TZID=Europe/Madrid:20250325T173000
DTEND;TZID=Europe/Madrid:20250325T183000
DTSTAMP:20260422T135616
CREATED:20250226T171852Z
LAST-MODIFIED:20250226T171852Z
UID:10000205-1742923800-1742927400@fundacionmas.es
SUMMARY:Becas de Inglés
DESCRIPTION:Organiza: Fundación MAS Inscripciones cerradas
URL:https://fundacionmas.es/evento/becas-de-ingles-15/
END:VEVENT
END:VCALENDAR