BEGIN:VCALENDAR
VERSION:2.0
PRODID:-//Fundación MAS - ECPv6.15.17.1//NONSGML v1.0//EN
CALSCALE:GREGORIAN
METHOD:PUBLISH
X-WR-CALNAME:Fundación MAS
X-ORIGINAL-URL:https://fundacionmas.es
X-WR-CALDESC:Eventos para Fundación MAS
REFRESH-INTERVAL;VALUE=DURATION:PT1H
X-Robots-Tag:noindex
X-PUBLISHED-TTL:PT1H
BEGIN:VTIMEZONE
TZID:Europe/Madrid
BEGIN:DAYLIGHT
TZOFFSETFROM:+0100
TZOFFSETTO:+0200
TZNAME:CEST
DTSTART:20240331T010000
END:DAYLIGHT
BEGIN:STANDARD
TZOFFSETFROM:+0200
TZOFFSETTO:+0100
TZNAME:CET
DTSTART:20241027T010000
END:STANDARD
BEGIN:DAYLIGHT
TZOFFSETFROM:+0100
TZOFFSETTO:+0200
TZNAME:CEST
DTSTART:20250330T010000
END:DAYLIGHT
BEGIN:STANDARD
TZOFFSETFROM:+0200
TZOFFSETTO:+0100
TZNAME:CET
DTSTART:20251026T010000
END:STANDARD
BEGIN:DAYLIGHT
TZOFFSETFROM:+0100
TZOFFSETTO:+0200
TZNAME:CEST
DTSTART:20260329T010000
END:DAYLIGHT
BEGIN:STANDARD
TZOFFSETFROM:+0200
TZOFFSETTO:+0100
TZNAME:CET
DTSTART:20261025T010000
END:STANDARD
END:VTIMEZONE
BEGIN:VEVENT
DTSTART;TZID=Europe/Madrid:20250311T090000
DTEND;TZID=Europe/Madrid:20250311T120000
DTSTAMP:20260422T135614
CREATED:20250226T173419Z
LAST-MODIFIED:20250226T173419Z
UID:10000213-1741683600-1741694400@fundacionmas.es
SUMMARY:Taller de Cocina Tradicional II
DESCRIPTION:Organiza: Distrito del Casco Antiguo. Inscritos Ayuntamiento de Sevilla
URL:https://fundacionmas.es/evento/taller-de-cocina-tradicional-ii-9/
END:VEVENT
BEGIN:VEVENT
DTSTART;TZID=Europe/Madrid:20250311T173000
DTEND;TZID=Europe/Madrid:20250311T183000
DTSTAMP:20260422T135614
CREATED:20250226T171554Z
LAST-MODIFIED:20250226T171554Z
UID:10000201-1741714200-1741717800@fundacionmas.es
SUMMARY:Becas de Inglés
DESCRIPTION:Organiza: Fundación MAS Inscripciones cerradas
URL:https://fundacionmas.es/evento/becas-de-ingles-11/
END:VEVENT
BEGIN:VEVENT
DTSTART;TZID=Europe/Madrid:20250311T190000
DTEND;TZID=Europe/Madrid:20250311T200000
DTSTAMP:20260422T135614
CREATED:20250306T150746Z
LAST-MODIFIED:20250306T150746Z
UID:10000229-1741719600-1741723200@fundacionmas.es
SUMMARY:Conferencia "Mantener sano el estómago" en la Sede de la Real Academia de Medicina de Sevilla
DESCRIPTION:Martes: 11 de marzo \nHora: 19:00 h \nLugar: Salón de Actos «Ramón y Cajal» de la Real Academia de Medicina. \nC/Abades\, 10. 41004. Sevilla
URL:https://fundacionmas.es/evento/conferencia-mantener-sano-el-estomago-en-la-sede-de-la-real-academia-de-medicina-de-sevilla/
END:VEVENT
END:VCALENDAR