BEGIN:VCALENDAR
VERSION:2.0
PRODID:-//Fundación MAS - ECPv6.15.17.1//NONSGML v1.0//EN
CALSCALE:GREGORIAN
METHOD:PUBLISH
X-ORIGINAL-URL:https://fundacionmas.es
X-WR-CALDESC:Eventos para Fundación MAS
REFRESH-INTERVAL;VALUE=DURATION:PT1H
X-Robots-Tag:noindex
X-PUBLISHED-TTL:PT1H
BEGIN:VTIMEZONE
TZID:Europe/Madrid
BEGIN:DAYLIGHT
TZOFFSETFROM:+0100
TZOFFSETTO:+0200
TZNAME:CEST
DTSTART:20240331T010000
END:DAYLIGHT
BEGIN:STANDARD
TZOFFSETFROM:+0200
TZOFFSETTO:+0100
TZNAME:CET
DTSTART:20241027T010000
END:STANDARD
BEGIN:DAYLIGHT
TZOFFSETFROM:+0100
TZOFFSETTO:+0200
TZNAME:CEST
DTSTART:20250330T010000
END:DAYLIGHT
BEGIN:STANDARD
TZOFFSETFROM:+0200
TZOFFSETTO:+0100
TZNAME:CET
DTSTART:20251026T010000
END:STANDARD
BEGIN:DAYLIGHT
TZOFFSETFROM:+0100
TZOFFSETTO:+0200
TZNAME:CEST
DTSTART:20260329T010000
END:DAYLIGHT
BEGIN:STANDARD
TZOFFSETFROM:+0200
TZOFFSETTO:+0100
TZNAME:CET
DTSTART:20261025T010000
END:STANDARD
END:VTIMEZONE
BEGIN:VEVENT
DTSTART;TZID=Europe/Madrid:20250310T090000
DTEND;TZID=Europe/Madrid:20250310T120000
DTSTAMP:20260422T122327
CREATED:20250226T172648Z
LAST-MODIFIED:20250226T172648Z
UID:10000208-1741597200-1741608000@fundacionmas.es
SUMMARY:Taller de Cocina Tradicional I
DESCRIPTION:Organiza: Distrito del Casco Antiguo. Inscritos Ayuntamiento de Sevilla
URL:https://fundacionmas.es/evento/taller-de-cocina-tradicional-i-12/
END:VEVENT
BEGIN:VEVENT
DTSTART;TZID=Europe/Madrid:20250310T103000
DTEND;TZID=Europe/Madrid:20250310T123000
DTSTAMP:20260422T122327
CREATED:20250226T163042Z
LAST-MODIFIED:20250226T163042Z
UID:10000192-1741602600-1741609800@fundacionmas.es
SUMMARY:Asamblea de Solidarios en Redes
DESCRIPTION:Organiza: Solidarios en redes
URL:https://fundacionmas.es/evento/asamblea-de-solidarios-en-redes/
END:VEVENT
BEGIN:VEVENT
DTSTART;TZID=Europe/Madrid:20250310T170000
DTEND;TZID=Europe/Madrid:20250310T190000
DTSTAMP:20260422T122327
CREATED:20250226T174409Z
LAST-MODIFIED:20250226T174409Z
UID:10000225-1741626000-1741633200@fundacionmas.es
SUMMARY:Taller de Cocina Infantil
DESCRIPTION:Organiza: Distrito del Casco Antiguo. Inscritos Ayuntamiento de Sevilla
URL:https://fundacionmas.es/evento/taller-de-cocina-infantil-8/
END:VEVENT
BEGIN:VEVENT
DTSTART;TZID=Europe/Madrid:20250310T190000
DTEND;TZID=Europe/Madrid:20250310T190000
DTSTAMP:20260422T122327
CREATED:20250116T101346Z
LAST-MODIFIED:20250203T154043Z
UID:10000144-1741633200-1741633200@fundacionmas.es
SUMMARY:VII Sesión Ciclo Nueva Ingeniería Sevillana
DESCRIPTION:Organiza: ISA \nEvento público
URL:https://fundacionmas.es/evento/vi-sesion-ciclo-nueva-ingenieria-sevillana/
END:VEVENT
END:VCALENDAR