BEGIN:VCALENDAR
VERSION:2.0
PRODID:-//Fundación MAS - ECPv6.15.17.1//NONSGML v1.0//EN
CALSCALE:GREGORIAN
METHOD:PUBLISH
X-ORIGINAL-URL:https://fundacionmas.es
X-WR-CALDESC:Eventos para Fundación MAS
REFRESH-INTERVAL;VALUE=DURATION:PT1H
X-Robots-Tag:noindex
X-PUBLISHED-TTL:PT1H
BEGIN:VTIMEZONE
TZID:Europe/Madrid
BEGIN:DAYLIGHT
TZOFFSETFROM:+0100
TZOFFSETTO:+0200
TZNAME:CEST
DTSTART:20240331T010000
END:DAYLIGHT
BEGIN:STANDARD
TZOFFSETFROM:+0200
TZOFFSETTO:+0100
TZNAME:CET
DTSTART:20241027T010000
END:STANDARD
BEGIN:DAYLIGHT
TZOFFSETFROM:+0100
TZOFFSETTO:+0200
TZNAME:CEST
DTSTART:20250330T010000
END:DAYLIGHT
BEGIN:STANDARD
TZOFFSETFROM:+0200
TZOFFSETTO:+0100
TZNAME:CET
DTSTART:20251026T010000
END:STANDARD
BEGIN:DAYLIGHT
TZOFFSETFROM:+0100
TZOFFSETTO:+0200
TZNAME:CEST
DTSTART:20260329T010000
END:DAYLIGHT
BEGIN:STANDARD
TZOFFSETFROM:+0200
TZOFFSETTO:+0100
TZNAME:CET
DTSTART:20261025T010000
END:STANDARD
END:VTIMEZONE
BEGIN:VEVENT
DTSTART;TZID=Europe/Madrid:20250307T090000
DTEND;TZID=Europe/Madrid:20250307T120000
DTSTAMP:20260422T152849
CREATED:20250226T173612Z
LAST-MODIFIED:20250226T173612Z
UID:10000216-1741338000-1741348800@fundacionmas.es
SUMMARY:Taller de Cocina Tradicional III
DESCRIPTION:Organiza: Distrito del Casco Antiguo. Inscritos Ayuntamiento de Sevilla
URL:https://fundacionmas.es/evento/taller-de-cocina-tradicional-iii-9/
END:VEVENT
BEGIN:VEVENT
DTSTART;TZID=Europe/Madrid:20250307T110000
DTEND;TZID=Europe/Madrid:20250307T123000
DTSTAMP:20260422T152849
CREATED:20250226T163317Z
LAST-MODIFIED:20250226T163317Z
UID:10000193-1741345200-1741350600@fundacionmas.es
SUMMARY:Jornada sobre reciclaje de plásticos
DESCRIPTION:Organiza: Asociación de mujeres americanas
URL:https://fundacionmas.es/evento/jornada-sobre-reciclaje-de-plasticos/
END:VEVENT
END:VCALENDAR