BEGIN:VCALENDAR
VERSION:2.0
PRODID:-//Fundación MAS - ECPv6.15.17.1//NONSGML v1.0//EN
CALSCALE:GREGORIAN
METHOD:PUBLISH
X-ORIGINAL-URL:https://fundacionmas.es
X-WR-CALDESC:Eventos para Fundación MAS
REFRESH-INTERVAL;VALUE=DURATION:PT1H
X-Robots-Tag:noindex
X-PUBLISHED-TTL:PT1H
BEGIN:VTIMEZONE
TZID:Europe/Madrid
BEGIN:DAYLIGHT
TZOFFSETFROM:+0100
TZOFFSETTO:+0200
TZNAME:CEST
DTSTART:20240331T010000
END:DAYLIGHT
BEGIN:STANDARD
TZOFFSETFROM:+0200
TZOFFSETTO:+0100
TZNAME:CET
DTSTART:20241027T010000
END:STANDARD
BEGIN:DAYLIGHT
TZOFFSETFROM:+0100
TZOFFSETTO:+0200
TZNAME:CEST
DTSTART:20250330T010000
END:DAYLIGHT
BEGIN:STANDARD
TZOFFSETFROM:+0200
TZOFFSETTO:+0100
TZNAME:CET
DTSTART:20251026T010000
END:STANDARD
BEGIN:DAYLIGHT
TZOFFSETFROM:+0100
TZOFFSETTO:+0200
TZNAME:CEST
DTSTART:20260329T010000
END:DAYLIGHT
BEGIN:STANDARD
TZOFFSETFROM:+0200
TZOFFSETTO:+0100
TZNAME:CET
DTSTART:20261025T010000
END:STANDARD
END:VTIMEZONE
BEGIN:VEVENT
DTSTART;TZID=Europe/Madrid:20250225T090000
DTEND;TZID=Europe/Madrid:20250225T120000
DTSTAMP:20260422T122325
CREATED:20250127T172509Z
LAST-MODIFIED:20250127T172509Z
UID:10000168-1740474000-1740484800@fundacionmas.es
SUMMARY:Taller de Cocina Tradicional II
DESCRIPTION:Organiza: Distrito del Casco Antiguo \nEvento privado
URL:https://fundacionmas.es/evento/taller-de-cocina-tradicional-ii-7/
END:VEVENT
BEGIN:VEVENT
DTSTART;TZID=Europe/Madrid:20250225T173000
DTEND;TZID=Europe/Madrid:20250225T183000
DTSTAMP:20260422T122325
CREATED:20250131T171544Z
LAST-MODIFIED:20250131T171544Z
UID:10000184-1740504600-1740508200@fundacionmas.es
SUMMARY:Becas de Inglés
DESCRIPTION:Organiza: Fundación MAS \nInscripciones cerradas
URL:https://fundacionmas.es/evento/becas-de-ingles-7/
END:VEVENT
END:VCALENDAR