BEGIN:VCALENDAR
VERSION:2.0
PRODID:-//Fundación MAS - ECPv6.15.17.1//NONSGML v1.0//EN
CALSCALE:GREGORIAN
METHOD:PUBLISH
X-ORIGINAL-URL:https://fundacionmas.es
X-WR-CALDESC:Eventos para Fundación MAS
REFRESH-INTERVAL;VALUE=DURATION:PT1H
X-Robots-Tag:noindex
X-PUBLISHED-TTL:PT1H
BEGIN:VTIMEZONE
TZID:Europe/Madrid
BEGIN:DAYLIGHT
TZOFFSETFROM:+0100
TZOFFSETTO:+0200
TZNAME:CEST
DTSTART:20240331T010000
END:DAYLIGHT
BEGIN:STANDARD
TZOFFSETFROM:+0200
TZOFFSETTO:+0100
TZNAME:CET
DTSTART:20241027T010000
END:STANDARD
BEGIN:DAYLIGHT
TZOFFSETFROM:+0100
TZOFFSETTO:+0200
TZNAME:CEST
DTSTART:20250330T010000
END:DAYLIGHT
BEGIN:STANDARD
TZOFFSETFROM:+0200
TZOFFSETTO:+0100
TZNAME:CET
DTSTART:20251026T010000
END:STANDARD
BEGIN:DAYLIGHT
TZOFFSETFROM:+0100
TZOFFSETTO:+0200
TZNAME:CEST
DTSTART:20260329T010000
END:DAYLIGHT
BEGIN:STANDARD
TZOFFSETFROM:+0200
TZOFFSETTO:+0100
TZNAME:CET
DTSTART:20261025T010000
END:STANDARD
END:VTIMEZONE
BEGIN:VEVENT
DTSTART;TZID=Europe/Madrid:20250217T090000
DTEND;TZID=Europe/Madrid:20250217T120000
DTSTAMP:20260422T152847
CREATED:20250127T171900Z
LAST-MODIFIED:20250127T171900Z
UID:10000159-1739782800-1739793600@fundacionmas.es
SUMMARY:Taller de Cocina Tradicional I
DESCRIPTION:Organiza: Distrito del Casco Antiguo \nEvento privado
URL:https://fundacionmas.es/evento/taller-de-cocina-tradicional-i-9/
END:VEVENT
BEGIN:VEVENT
DTSTART;TZID=Europe/Madrid:20250217T170000
DTEND;TZID=Europe/Madrid:20250217T190000
DTSTAMP:20260422T152847
CREATED:20250127T172230Z
LAST-MODIFIED:20250127T172230Z
UID:10000163-1739811600-1739818800@fundacionmas.es
SUMMARY:Taller de Cocina Infantil
DESCRIPTION:Organiza: Distrito del Casco Antiguo \nEvento privado
URL:https://fundacionmas.es/evento/taller-de-cocina-infantil-5/
END:VEVENT
END:VCALENDAR