BEGIN:VCALENDAR
VERSION:2.0
PRODID:-//Fundación MAS - ECPv6.15.17.1//NONSGML v1.0//EN
CALSCALE:GREGORIAN
METHOD:PUBLISH
X-WR-CALNAME:Fundación MAS
X-ORIGINAL-URL:https://fundacionmas.es
X-WR-CALDESC:Eventos para Fundación MAS
REFRESH-INTERVAL;VALUE=DURATION:PT1H
X-Robots-Tag:noindex
X-PUBLISHED-TTL:PT1H
BEGIN:VTIMEZONE
TZID:Europe/Madrid
BEGIN:DAYLIGHT
TZOFFSETFROM:+0100
TZOFFSETTO:+0200
TZNAME:CEST
DTSTART:20240331T010000
END:DAYLIGHT
BEGIN:STANDARD
TZOFFSETFROM:+0200
TZOFFSETTO:+0100
TZNAME:CET
DTSTART:20241027T010000
END:STANDARD
BEGIN:DAYLIGHT
TZOFFSETFROM:+0100
TZOFFSETTO:+0200
TZNAME:CEST
DTSTART:20250330T010000
END:DAYLIGHT
BEGIN:STANDARD
TZOFFSETFROM:+0200
TZOFFSETTO:+0100
TZNAME:CET
DTSTART:20251026T010000
END:STANDARD
BEGIN:DAYLIGHT
TZOFFSETFROM:+0100
TZOFFSETTO:+0200
TZNAME:CEST
DTSTART:20260329T010000
END:DAYLIGHT
BEGIN:STANDARD
TZOFFSETFROM:+0200
TZOFFSETTO:+0100
TZNAME:CET
DTSTART:20261025T010000
END:STANDARD
END:VTIMEZONE
BEGIN:VEVENT
DTSTART;TZID=Europe/Madrid:20250203T090000
DTEND;TZID=Europe/Madrid:20250203T120000
DTSTAMP:20260422T165531
CREATED:20250127T171748Z
LAST-MODIFIED:20250127T171748Z
UID:10000157-1738573200-1738584000@fundacionmas.es
SUMMARY:Taller de Cocina Tradicional I
DESCRIPTION:Organiza: Distrito del Casco Antiguo \nEvento privado
URL:https://fundacionmas.es/evento/taller-de-cocina-tradicional-i-7/
END:VEVENT
BEGIN:VEVENT
DTSTART;TZID=Europe/Madrid:20250203T170000
DTEND;TZID=Europe/Madrid:20250203T190000
DTSTAMP:20260422T165531
CREATED:20250127T172033Z
LAST-MODIFIED:20250127T172033Z
UID:10000161-1738602000-1738609200@fundacionmas.es
SUMMARY:Taller de Cocina Infantil
DESCRIPTION:Organiza: Distrito del Casco Antiguo \nEvento privado
URL:https://fundacionmas.es/evento/taller-de-cocina-infantil-3/
END:VEVENT
END:VCALENDAR