BEGIN:VCALENDAR
VERSION:2.0
PRODID:-//Fundación MAS - ECPv6.15.17.1//NONSGML v1.0//EN
CALSCALE:GREGORIAN
METHOD:PUBLISH
X-WR-CALNAME:Fundación MAS
X-ORIGINAL-URL:https://fundacionmas.es
X-WR-CALDESC:Eventos para Fundación MAS
REFRESH-INTERVAL;VALUE=DURATION:PT1H
X-Robots-Tag:noindex
X-PUBLISHED-TTL:PT1H
BEGIN:VTIMEZONE
TZID:Europe/Madrid
BEGIN:DAYLIGHT
TZOFFSETFROM:+0100
TZOFFSETTO:+0200
TZNAME:CEST
DTSTART:20240331T010000
END:DAYLIGHT
BEGIN:STANDARD
TZOFFSETFROM:+0200
TZOFFSETTO:+0100
TZNAME:CET
DTSTART:20241027T010000
END:STANDARD
BEGIN:DAYLIGHT
TZOFFSETFROM:+0100
TZOFFSETTO:+0200
TZNAME:CEST
DTSTART:20250330T010000
END:DAYLIGHT
BEGIN:STANDARD
TZOFFSETFROM:+0200
TZOFFSETTO:+0100
TZNAME:CET
DTSTART:20251026T010000
END:STANDARD
BEGIN:DAYLIGHT
TZOFFSETFROM:+0100
TZOFFSETTO:+0200
TZNAME:CEST
DTSTART:20260329T010000
END:DAYLIGHT
BEGIN:STANDARD
TZOFFSETFROM:+0200
TZOFFSETTO:+0100
TZNAME:CET
DTSTART:20261025T010000
END:STANDARD
END:VTIMEZONE
BEGIN:VEVENT
DTSTART;TZID=Europe/Madrid:20250120T090000
DTEND;TZID=Europe/Madrid:20250124T140000
DTSTAMP:20260422T165538
CREATED:20241231T085202Z
LAST-MODIFIED:20241231T085202Z
UID:10000133-1737363600-1737727200@fundacionmas.es
SUMMARY:Entrevistas de selección
DESCRIPTION:Organiza: Banco de Alimentos \nEvento privado
URL:https://fundacionmas.es/evento/entrevistas-de-seleccion/
END:VEVENT
BEGIN:VEVENT
DTSTART;TZID=Europe/Madrid:20250121T190000
DTEND;TZID=Europe/Madrid:20250124T203000
DTSTAMP:20260422T165538
CREATED:20241230T163335Z
LAST-MODIFIED:20250116T093756Z
UID:10000131-1737486000-1737750600@fundacionmas.es
SUMMARY:Presentación novela José Miguel Núñez
DESCRIPTION:
URL:https://fundacionmas.es/evento/atica/
END:VEVENT
BEGIN:VEVENT
DTSTART;TZID=Europe/Madrid:20250123T090000
DTEND;TZID=Europe/Madrid:20250123T120000
DTSTAMP:20260422T165538
CREATED:20241231T084428Z
LAST-MODIFIED:20241231T085022Z
UID:10000132-1737622800-1737633600@fundacionmas.es
SUMMARY:Taller de Cocina Internacional
DESCRIPTION:Organiza: Distrito del Casco Antiguo \nEvento privado
URL:https://fundacionmas.es/evento/taller-de-cocina-internacional/
END:VEVENT
BEGIN:VEVENT
DTSTART;TZID=Europe/Madrid:20250123T090000
DTEND;TZID=Europe/Madrid:20250123T120000
DTSTAMP:20260422T165538
CREATED:20250116T105126Z
LAST-MODIFIED:20250116T105126Z
UID:10000155-1737622800-1737633600@fundacionmas.es
SUMMARY:Taller de Cocina Internacional
DESCRIPTION:Organiza: Distrito Casco Antiguo \nEvento Privado
URL:https://fundacionmas.es/evento/taller-de-cocina-internacional-3/
END:VEVENT
END:VCALENDAR