BEGIN:VCALENDAR
VERSION:2.0
PRODID:-//Fundación MAS - ECPv6.15.17.1//NONSGML v1.0//EN
CALSCALE:GREGORIAN
METHOD:PUBLISH
X-ORIGINAL-URL:https://fundacionmas.es
X-WR-CALDESC:Eventos para Fundación MAS
REFRESH-INTERVAL;VALUE=DURATION:PT1H
X-Robots-Tag:noindex
X-PUBLISHED-TTL:PT1H
BEGIN:VTIMEZONE
TZID:Europe/Madrid
BEGIN:DAYLIGHT
TZOFFSETFROM:+0100
TZOFFSETTO:+0200
TZNAME:CEST
DTSTART:20240331T010000
END:DAYLIGHT
BEGIN:STANDARD
TZOFFSETFROM:+0200
TZOFFSETTO:+0100
TZNAME:CET
DTSTART:20241027T010000
END:STANDARD
BEGIN:DAYLIGHT
TZOFFSETFROM:+0100
TZOFFSETTO:+0200
TZNAME:CEST
DTSTART:20250330T010000
END:DAYLIGHT
BEGIN:STANDARD
TZOFFSETFROM:+0200
TZOFFSETTO:+0100
TZNAME:CET
DTSTART:20251026T010000
END:STANDARD
BEGIN:DAYLIGHT
TZOFFSETFROM:+0100
TZOFFSETTO:+0200
TZNAME:CEST
DTSTART:20260329T010000
END:DAYLIGHT
BEGIN:STANDARD
TZOFFSETFROM:+0200
TZOFFSETTO:+0100
TZNAME:CET
DTSTART:20261025T010000
END:STANDARD
END:VTIMEZONE
BEGIN:VEVENT
DTSTART;TZID=Europe/Madrid:20250113T090000
DTEND;TZID=Europe/Madrid:20250113T120000
DTSTAMP:20260422T183428
CREATED:20241230T161416Z
LAST-MODIFIED:20241230T161416Z
UID:10000120-1736758800-1736769600@fundacionmas.es
SUMMARY:Taller de Cocina Tradicional I
DESCRIPTION:Organiza: Distrito Casco Antiguo \nEvento privado
URL:https://fundacionmas.es/evento/taller-de-cocina-tradicional-i-2/
END:VEVENT
BEGIN:VEVENT
DTSTART;TZID=Europe/Madrid:20250113T160000
DTEND;TZID=Europe/Madrid:20250113T190000
DTSTAMP:20260422T183428
CREATED:20241230T161558Z
LAST-MODIFIED:20241230T161558Z
UID:10000121-1736784000-1736794800@fundacionmas.es
SUMMARY:Taller de Cocina Infantil
DESCRIPTION:Organiza: Distrito de Casco Antiguo \nEvento privado
URL:https://fundacionmas.es/evento/taller-de-cocina-infantil/
END:VEVENT
BEGIN:VEVENT
DTSTART;TZID=Europe/Madrid:20250113T180000
DTEND;TZID=Europe/Madrid:20250113T200000
DTSTAMP:20260422T183428
CREATED:20241226T175525Z
LAST-MODIFIED:20241226T175859Z
UID:10000112-1736791200-1736798400@fundacionmas.es
SUMMARY:Junta Distrito Casco Antiguo
DESCRIPTION:Organiza: Distrito Casco Antiguo – Ayuntamiento de Sevilla
URL:https://fundacionmas.es/evento/junta-distrito-casco-antiguo-ayuntamiento-de-sevilla-2/
END:VEVENT
END:VCALENDAR