BEGIN:VCALENDAR
VERSION:2.0
PRODID:-//Fundación MAS - ECPv6.15.17.1//NONSGML v1.0//EN
CALSCALE:GREGORIAN
METHOD:PUBLISH
X-WR-CALNAME:Fundación MAS
X-ORIGINAL-URL:https://fundacionmas.es
X-WR-CALDESC:Eventos para Fundación MAS
REFRESH-INTERVAL;VALUE=DURATION:PT1H
X-Robots-Tag:noindex
X-PUBLISHED-TTL:PT1H
BEGIN:VTIMEZONE
TZID:Europe/Madrid
BEGIN:DAYLIGHT
TZOFFSETFROM:+0100
TZOFFSETTO:+0200
TZNAME:CEST
DTSTART:20240331T010000
END:DAYLIGHT
BEGIN:STANDARD
TZOFFSETFROM:+0200
TZOFFSETTO:+0100
TZNAME:CET
DTSTART:20241027T010000
END:STANDARD
BEGIN:DAYLIGHT
TZOFFSETFROM:+0100
TZOFFSETTO:+0200
TZNAME:CEST
DTSTART:20250330T010000
END:DAYLIGHT
BEGIN:STANDARD
TZOFFSETFROM:+0200
TZOFFSETTO:+0100
TZNAME:CET
DTSTART:20251026T010000
END:STANDARD
BEGIN:DAYLIGHT
TZOFFSETFROM:+0100
TZOFFSETTO:+0200
TZNAME:CEST
DTSTART:20260329T010000
END:DAYLIGHT
BEGIN:STANDARD
TZOFFSETFROM:+0200
TZOFFSETTO:+0100
TZNAME:CET
DTSTART:20261025T010000
END:STANDARD
END:VTIMEZONE
BEGIN:VEVENT
DTSTART;TZID=Europe/Madrid:20250109T090000
DTEND;TZID=Europe/Madrid:20250109T120000
DTSTAMP:20260422T183425
CREATED:20241230T151008Z
LAST-MODIFIED:20241230T151503Z
UID:10000116-1736413200-1736424000@fundacionmas.es
SUMMARY:Taller de Cocina Internacional
DESCRIPTION:Organiza: Distrito Casco Antiguo \nEvento privado.
URL:https://fundacionmas.es/evento/taller-de-cocina-tradicional-i/
END:VEVENT
BEGIN:VEVENT
DTSTART;TZID=Europe/Madrid:20250109T173000
DTEND;TZID=Europe/Madrid:20250109T183000
DTSTAMP:20260422T183425
CREATED:20241230T151133Z
LAST-MODIFIED:20241230T151133Z
UID:10000117-1736443800-1736447400@fundacionmas.es
SUMMARY:XIV Becas de Inglés
DESCRIPTION:Organizado por: Fundación MAS. \nEvento privado
URL:https://fundacionmas.es/evento/xiv-becas-de-ingles-2/
END:VEVENT
END:VCALENDAR