BEGIN:VCALENDAR
VERSION:2.0
PRODID:-//Fundación MAS - ECPv6.15.17.1//NONSGML v1.0//EN
CALSCALE:GREGORIAN
METHOD:PUBLISH
X-WR-CALNAME:Fundación MAS
X-ORIGINAL-URL:https://fundacionmas.es
X-WR-CALDESC:Eventos para Fundación MAS
REFRESH-INTERVAL;VALUE=DURATION:PT1H
X-Robots-Tag:noindex
X-PUBLISHED-TTL:PT1H
BEGIN:VTIMEZONE
TZID:Europe/Madrid
BEGIN:DAYLIGHT
TZOFFSETFROM:+0100
TZOFFSETTO:+0200
TZNAME:CEST
DTSTART:20230326T010000
END:DAYLIGHT
BEGIN:STANDARD
TZOFFSETFROM:+0200
TZOFFSETTO:+0100
TZNAME:CET
DTSTART:20231029T010000
END:STANDARD
BEGIN:DAYLIGHT
TZOFFSETFROM:+0100
TZOFFSETTO:+0200
TZNAME:CEST
DTSTART:20240331T010000
END:DAYLIGHT
BEGIN:STANDARD
TZOFFSETFROM:+0200
TZOFFSETTO:+0100
TZNAME:CET
DTSTART:20241027T010000
END:STANDARD
BEGIN:DAYLIGHT
TZOFFSETFROM:+0100
TZOFFSETTO:+0200
TZNAME:CEST
DTSTART:20250330T010000
END:DAYLIGHT
BEGIN:STANDARD
TZOFFSETFROM:+0200
TZOFFSETTO:+0100
TZNAME:CET
DTSTART:20251026T010000
END:STANDARD
END:VTIMEZONE
BEGIN:VEVENT
DTSTART;TZID=Europe/Madrid:20241030T100000
DTEND;TZID=Europe/Madrid:20241030T140000
DTSTAMP:20260422T200333
CREATED:20241004T174056Z
LAST-MODIFIED:20241004T174056Z
UID:10000087-1730282400-1730296800@fundacionmas.es
SUMMARY:Alianzas con el futuro de los ODS de 3CS Estrategia Económica
DESCRIPTION:
URL:https://fundacionmas.es/evento/alianzas-con-el-futuro-de-los-ods-de-3cs-estrategia-economica/
END:VEVENT
END:VCALENDAR