BEGIN:VCALENDAR
VERSION:2.0
PRODID:-//Fundación MAS - ECPv6.15.17.1//NONSGML v1.0//EN
CALSCALE:GREGORIAN
METHOD:PUBLISH
X-ORIGINAL-URL:https://fundacionmas.es
X-WR-CALDESC:Eventos para Fundación MAS
REFRESH-INTERVAL;VALUE=DURATION:PT1H
X-Robots-Tag:noindex
X-PUBLISHED-TTL:PT1H
BEGIN:VTIMEZONE
TZID:Europe/Madrid
BEGIN:DAYLIGHT
TZOFFSETFROM:+0100
TZOFFSETTO:+0200
TZNAME:CEST
DTSTART:20230326T010000
END:DAYLIGHT
BEGIN:STANDARD
TZOFFSETFROM:+0200
TZOFFSETTO:+0100
TZNAME:CET
DTSTART:20231029T010000
END:STANDARD
BEGIN:DAYLIGHT
TZOFFSETFROM:+0100
TZOFFSETTO:+0200
TZNAME:CEST
DTSTART:20240331T010000
END:DAYLIGHT
BEGIN:STANDARD
TZOFFSETFROM:+0200
TZOFFSETTO:+0100
TZNAME:CET
DTSTART:20241027T010000
END:STANDARD
BEGIN:DAYLIGHT
TZOFFSETFROM:+0100
TZOFFSETTO:+0200
TZNAME:CEST
DTSTART:20250330T010000
END:DAYLIGHT
BEGIN:STANDARD
TZOFFSETFROM:+0200
TZOFFSETTO:+0100
TZNAME:CET
DTSTART:20251026T010000
END:STANDARD
END:VTIMEZONE
BEGIN:VEVENT
DTSTART;TZID=Europe/Madrid:20241011T100000
DTEND;TZID=Europe/Madrid:20241011T120000
DTSTAMP:20260422T212850
CREATED:20241004T173438Z
LAST-MODIFIED:20241004T174329Z
UID:10000084-1728640800-1728648000@fundacionmas.es
SUMMARY:Foro Ciudades con futuro con Antonio Muñoz
DESCRIPTION:
URL:https://fundacionmas.es/evento/foro-ciudades-con-futuro-con-antonio-munoz/
END:VEVENT
BEGIN:VEVENT
DTSTART;TZID=Europe/Madrid:20241011T173000
DTEND;TZID=Europe/Madrid:20241011T193000
DTSTAMP:20260422T212850
CREATED:20241004T173730Z
LAST-MODIFIED:20241004T173738Z
UID:10000085-1728667800-1728675000@fundacionmas.es
SUMMARY:Ciclo de conferencias y debates: La imagen de la ciudad de Sevilla a través de su historia. Felices años 20.
DESCRIPTION:Imparte José Antonio Hurtado González\, intérprete del Patrimonio Público.
URL:https://fundacionmas.es/evento/ciclo-de-conferencias-y-debates-la-imagen-de-la-ciudad-de-sevilla-a-traves-de-su-historia-felices-anos-20/
END:VEVENT
END:VCALENDAR